BEGIN:VCALENDAR
VERSION:2.0
PRODID:-//Constellation Schools - ECPv4.6.16//NONSGML v1.0//EN
CALSCALE:GREGORIAN
METHOD:PUBLISH
X-WR-CALNAME:Constellation Schools
X-ORIGINAL-URL:https://constellationschools.com
X-WR-CALDESC:Events for Constellation Schools
BEGIN:VEVENT
DTSTART;VALUE=DATE:20230116
DTEND;VALUE=DATE:20230117
DTSTAMP:20260425T034953
CREATED:20230111T213056Z
LAST-MODIFIED:20230111T213056Z
UID:23279-1673827200-1673913599@constellationschools.com
SUMMARY:Martin Luther King Day (Schools Closed)
DESCRIPTION:
URL:https://constellationschools.com/event/martin-luther-king-day-schools-closed/
CATEGORIES:Calendar Only
END:VEVENT
END:VCALENDAR