BEGIN:VCALENDAR
VERSION:2.0
PRODID:-//Constellation Schools - ECPv4.6.16//NONSGML v1.0//EN
CALSCALE:GREGORIAN
METHOD:PUBLISH
X-WR-CALNAME:Constellation Schools
X-ORIGINAL-URL:https://constellationschools.com
X-WR-CALDESC:Events for Constellation Schools
BEGIN:VEVENT
DTSTART;VALUE=DATE:20230210
DTEND;VALUE=DATE:20230211
DTSTAMP:20260425T022559
CREATED:20230112T151721Z
LAST-MODIFIED:20230112T151721Z
UID:23333-1675987200-1676073599@constellationschools.com
SUMMARY:Schools Closed
DESCRIPTION:
URL:https://constellationschools.com/event/schools-closed/
CATEGORIES:Calendar Only
END:VEVENT
END:VCALENDAR