BEGIN:VCALENDAR
VERSION:2.0
PRODID:-//Constellation Schools - ECPv4.6.16//NONSGML v1.0//EN
CALSCALE:GREGORIAN
METHOD:PUBLISH
X-WR-CALNAME:Constellation Schools
X-ORIGINAL-URL:https://constellationschools.com
X-WR-CALDESC:Events for Constellation Schools
BEGIN:VEVENT
DTSTART;TZID=America/New_York:20230316T180000
DTEND;TZID=America/New_York:20230316T190000
DTSTAMP:20260425T005721
CREATED:20230112T160944Z
LAST-MODIFIED:20230112T160944Z
UID:23387-1678989600-1678993200@constellationschools.com
SUMMARY:Board Meeting
DESCRIPTION:Board Meeting – 6:00 PM\nConstellation Schools Administrative Offices\n5730 Broadview Road\nParma\, OH 44134 \n
URL:https://constellationschools.com/event/board-meeting-2/
LOCATION:5730 Broadview Road\, Parma\, OH\, 44134
CATEGORIES:Calendar Only,School Board
END:VEVENT
END:VCALENDAR