BEGIN:VCALENDAR
VERSION:2.0
PRODID:-//Constellation Schools - ECPv4.6.16//NONSGML v1.0//EN
CALSCALE:GREGORIAN
METHOD:PUBLISH
X-WR-CALNAME:Constellation Schools
X-ORIGINAL-URL:https://constellationschools.com
X-WR-CALDESC:Events for Constellation Schools
BEGIN:VEVENT
DTSTART;VALUE=DATE:20230428
DTEND;VALUE=DATE:20230429
DTSTAMP:20260424T233405
CREATED:20230112T161902Z
LAST-MODIFIED:20230112T161902Z
UID:23438-1682640000-1682726399@constellationschools.com
SUMMARY:In-Service\, Collaboration\, Professional Development Day (No School for Students)
DESCRIPTION:
URL:https://constellationschools.com/event/service-collaboration-professional-development-day-no-school-students-4/
CATEGORIES:Calendar Only
END:VEVENT
END:VCALENDAR