BEGIN:VCALENDAR
VERSION:2.0
PRODID:-//Constellation Schools - ECPv4.6.16//NONSGML v1.0//EN
CALSCALE:GREGORIAN
METHOD:PUBLISH
X-WR-CALNAME:Constellation Schools
X-ORIGINAL-URL:https://constellationschools.com
X-WR-CALDESC:Events for Constellation Schools
BEGIN:VEVENT
DTSTART;TZID=America/New_York:20230518T180000
DTEND;TZID=America/New_York:20230518T190000
DTSTAMP:20260424T221153
CREATED:20230112T162457Z
LAST-MODIFIED:20230112T162457Z
UID:23450-1684432800-1684436400@constellationschools.com
SUMMARY:Annual Board Meeting
DESCRIPTION:Board Meeting – 6:00 PM\nConstellation Schools Administrative Offices\n5730 Broadview Road\nParma\, OH 44134 \n
URL:https://constellationschools.com/event/annual-board-meeting/
CATEGORIES:Calendar Only
END:VEVENT
END:VCALENDAR