BEGIN:VCALENDAR
VERSION:2.0
PRODID:-//Constellation Schools - ECPv4.6.16//NONSGML v1.0//EN
CALSCALE:GREGORIAN
METHOD:PUBLISH
X-WR-CALNAME:Constellation Schools
X-ORIGINAL-URL:https://constellationschools.com
X-WR-CALDESC:Events for Constellation Schools
BEGIN:VEVENT
DTSTART;VALUE=DATE:20230602
DTEND;VALUE=DATE:20230603
DTSTAMP:20260424T203546
CREATED:20230112T162842Z
LAST-MODIFIED:20230112T162842Z
UID:23474-1685664000-1685750399@constellationschools.com
SUMMARY:Last Day of School for Students / 4th Quarter Ends
DESCRIPTION:Last Day of School for Students / 4th Quarter Ends \n
URL:https://constellationschools.com/event/last-day-school-students-4th-quarter-ends/
CATEGORIES:Calendar Only
END:VEVENT
BEGIN:VEVENT
DTSTART;TZID=America/New_York:20230602T083000
DTEND;TZID=America/New_York:20230602T150000
DTSTAMP:20260424T203546
CREATED:20230504T133032Z
LAST-MODIFIED:20230504T133032Z
UID:31645-1685694600-1685718000@constellationschools.com
SUMMARY:Eastside Arts- Field Day
DESCRIPTION:We had a great school year & it’s time to amp up the fun! Join us on the field to celebrate! Enjoy field games\, snacks\, music & the opportunity to visit with families and staff before the summer break. \n
URL:https://constellationschools.com/event/eastside-arts-field-day/
LOCATION:6700 Lansing Ave\, Cleveland\, OH\, 44105
CATEGORIES:Calendar Only
END:VEVENT
BEGIN:VEVENT
DTSTART;TZID=America/New_York:20230602T120000
DTEND;TZID=America/New_York:20230602T150000
DTSTAMP:20260424T203546
CREATED:20230504T133214Z
LAST-MODIFIED:20230510T132546Z
UID:31651-1685707200-1685718000@constellationschools.com
SUMMARY:Stockyard Community - Field Day
DESCRIPTION:We had a great school year & it’s time to amp up the fun! Join us on the field to celebrate! Enjoy field games\, snacks\, music & the opportunity to visit with families and staff before the summer break. \n
URL:https://constellationschools.com/event/stockyard-community-field-day/
LOCATION:3200 W 65th Street\, Cleveland\, OH\, 44102\, United States
CATEGORIES:Calendar Only
END:VEVENT
END:VCALENDAR