BEGIN:VCALENDAR
VERSION:2.0
PRODID:-//Constellation Schools - ECPv4.6.16//NONSGML v1.0//EN
CALSCALE:GREGORIAN
METHOD:PUBLISH
X-WR-CALNAME:Constellation Schools
X-ORIGINAL-URL:https://constellationschools.com
X-WR-CALDESC:Events for Constellation Schools
BEGIN:VEVENT
DTSTART;VALUE=DATE:20230619
DTEND;VALUE=DATE:20230620
DTSTAMP:20260424T203622
CREATED:20230112T163046Z
LAST-MODIFIED:20230112T163046Z
UID:23486-1687132800-1687219199@constellationschools.com
SUMMARY:Juneteenth
DESCRIPTION:Juneteenth\nHOLIDAY – Schools & Offices Closed \n
URL:https://constellationschools.com/event/juneteenth/
CATEGORIES:Calendar Only
END:VEVENT
END:VCALENDAR