BEGIN:VCALENDAR
VERSION:2.0
PRODID:-//Constellation Schools - ECPv4.6.16//NONSGML v1.0//EN
CALSCALE:GREGORIAN
METHOD:PUBLISH
X-WR-CALNAME:Constellation Schools
X-ORIGINAL-URL:https://constellationschools.com
X-WR-CALDESC:Events for Constellation Schools
BEGIN:VEVENT
DTSTART;TZID=America/New_York:20230822T110000
DTEND;TZID=America/New_York:20230822T130000
DTSTAMP:20260424T173506
CREATED:20230811T131948Z
LAST-MODIFIED:20230811T131948Z
UID:34588-1692702000-1692709200@constellationschools.com
SUMMARY:Westpark Community - Back to School Open House
DESCRIPTION:Welcome back to school! Join us for open house to meet the principal\, teachers and staff & to tour our school. It is not too late to enroll for the 2023-24 school year & we will have staff ready to assist new families in the enrollment process.  \nRSVP Today! constellationschools.com/westpark-events  \n
URL:https://constellationschools.com/event/westpark-community-back-to-school-open-house/
LOCATION:16210 Lorain Ave\, Cleveland\, OH\, 44111
CATEGORIES:Calendar Only,Prospective Families, Events, Home
END:VEVENT
BEGIN:VEVENT
DTSTART;TZID=America/New_York:20230822T120000
DTEND;TZID=America/New_York:20230822T150000
DTSTAMP:20260424T173506
CREATED:20230810T202446Z
LAST-MODIFIED:20230810T202446Z
UID:34537-1692705600-1692716400@constellationschools.com
SUMMARY:Eastside Arts - Back to School Open House
DESCRIPTION:Welcome back to school! Join us for open house to meet the principal\, teachers and staff & to tour our school. It is not too late to enroll for the 2023-24 school year & we will have staff ready to assist new families in the enrollment process.\n\nRSVP Today! https://constellationschools.com/eastside-events/\n
URL:https://constellationschools.com/event/eastside-arts-back-to-school-open-house/
LOCATION:6700 Lansing Ave\, Cleveland\, OH\, 44105
CATEGORIES:Calendar Only,Prospective Families, Events, Home
END:VEVENT
BEGIN:VEVENT
DTSTART;TZID=America/New_York:20230822T120000
DTEND;TZID=America/New_York:20230822T160000
DTSTAMP:20260424T173506
CREATED:20230811T131447Z
LAST-MODIFIED:20230811T131447Z
UID:34573-1692705600-1692720000@constellationschools.com
SUMMARY:Parma Intermediate - Back to School Open House
DESCRIPTION:Welcome back to school! Join us for open house to meet the principal\, teachers and staff & to tour our school. It is not too late to enroll for the 2023-24 school year & we will have staff ready to assist new families in the enrollment process. \nRSVP Today! https://constellationschools.com/parma-intermediate-events/ \n
URL:https://constellationschools.com/event/parma-intermediate-back-to-school-open-house/
LOCATION:3421 Snow Rd\, Parma\, OH\, 44134\, United States
CATEGORIES:Calendar Only,Prospective Families, Events, Home
END:VEVENT
BEGIN:VEVENT
DTSTART;TZID=America/New_York:20230822T130000
DTEND;TZID=America/New_York:20230822T180000
DTSTAMP:20260424T173506
CREATED:20230720T142032Z
LAST-MODIFIED:20230809T183231Z
UID:33640-1692709200-1692727200@constellationschools.com
SUMMARY:Puritas Community - Back to School Open House
DESCRIPTION:Welcome to the Puritas Jungle Safari\, where every student thrives! Today\, we have three exciting stops on our jungle safari. At our first stop\, we will provide you with important paperwork\, review the dress code\, and discuss transportation. Our second stop is all about fueling up – enjoy a delicious slice of pizza\, grab a nutritious drink\, and mingle with our leaders during the meetings. Lastly\, don’t forget to visit your child’s classroom and personally meet their teacher. Every student who attends the Open House and completes their punch card will receive a free Safari theme dress down on Friday August 25\, 2023.  \nRSVP Today! constellationschools.com/puritas-events  \n
URL:https://constellationschools.com/event/puritas-community-back-to-school-open-house/
LOCATION:17720 Puritas Ave\, Cleveland\, OH\, 44135
CATEGORIES:Calendar Only,Prospective Families, Events, Home
END:VEVENT
BEGIN:VEVENT
DTSTART;TZID=America/New_York:20230822T130000
DTEND;TZID=America/New_York:20230822T170000
DTSTAMP:20260424T173506
CREATED:20230807T183611Z
LAST-MODIFIED:20230809T144620Z
UID:34297-1692709200-1692723600@constellationschools.com
SUMMARY:Westside Community - Back to School Open House & School Supply Giveaway
DESCRIPTION:Welcome back to school! Join us for open house to meet the principal\, teachers and staff & to tour our school. It is not too late to enroll for the 2023-24 school year & we will have staff ready to assist new families in the enrollment process. We will additionally have a free school supply giveaway for the first 50 students to attend. \nRSVP Today! constellationschools.com/westside-events \n
URL:https://constellationschools.com/event/westside-community-back-to-school-open-house-school-supply-giveaway/
LOCATION:3727 Bosworth Rd\, Cleveland\, OH\, 44111
CATEGORIES:Calendar Only,Prospective Families, Events, Home
END:VEVENT
BEGIN:VEVENT
DTSTART;TZID=America/New_York:20230822T130000
DTEND;TZID=America/New_York:20230822T160000
DTSTAMP:20260424T173506
CREATED:20230810T203138Z
LAST-MODIFIED:20230810T203138Z
UID:34549-1692709200-1692720000@constellationschools.com
SUMMARY:Madison Community - Back to School Open House
DESCRIPTION:Welcome back to school! Join us for open house to meet the principal\, teachers and staff & to tour our school. It is not too late to enroll for the 2023-24 school year & we will have staff ready to assist new families in the enrollment process. \nMadison Community Events \n \n
URL:https://constellationschools.com/event/madison-community-back-to-school-open-house/
LOCATION:OH
CATEGORIES:Calendar Only,Prospective Families, Events, Home
END:VEVENT
BEGIN:VEVENT
DTSTART;TZID=America/New_York:20230822T140000
DTEND;TZID=America/New_York:20230822T170000
DTSTAMP:20260424T173506
CREATED:20230811T130637Z
LAST-MODIFIED:20230811T130637Z
UID:34561-1692712800-1692723600@constellationschools.com
SUMMARY:Parma Day Dr - Back to School Open House
DESCRIPTION:Welcome back to school! Join us for open house to meet the principal\, teachers and staff & to tour our school. It is not too late to enroll for the 2023-24 school year & we will have staff ready to assist new families in the enrollment process.  \nRSVP Today! https://constellationschools.com/parma-day-drive-elementary-events/  \n
URL:https://constellationschools.com/event/parma-day-dr-back-to-school-open-house/
LOCATION:7667 Day Dr\, Parma\, OH\, 44129
CATEGORIES:Calendar Only,Prospective Families, Events, Home
END:VEVENT
BEGIN:VEVENT
DTSTART;TZID=America/New_York:20230822T150000
DTEND;TZID=America/New_York:20230822T180000
DTSTAMP:20260424T173506
CREATED:20230811T131705Z
LAST-MODIFIED:20230811T131705Z
UID:34582-1692716400-1692727200@constellationschools.com
SUMMARY:Parma Middle & High - Back to School Open House
DESCRIPTION:Welcome back to school! Join us for open house to meet the principal\, teachers and staff & to tour our school. It is not too late to enroll for the 2023-24 school year & we will have staff ready to assist new families in the enrollment process.  \nRSVP Today! https://constellationschools.com/parma-middle-high-events/  \n
URL:https://constellationschools.com/event/parma-middle-high-back-to-school-open-house/
LOCATION:5983 W. 54th Street\, Parma\, OH\, 44129\, United States
CATEGORIES:Calendar Only,Prospective Families, Events, Home
END:VEVENT
BEGIN:VEVENT
DTSTART;TZID=America/New_York:20230822T150000
DTEND;TZID=America/New_York:20230822T180000
DTSTAMP:20260424T173506
CREATED:20230815T132045Z
LAST-MODIFIED:20230815T132045Z
UID:34711-1692716400-1692727200@constellationschools.com
SUMMARY:Elyria Community - Back to School Open House
DESCRIPTION:Welcome back to school! Join us for open house to meet the principal\, teachers and staff & to tour our school. It is not too late to enroll for the 2023-24 school year & we will have staff ready to assist new families in the enrollment process.\n\nRSVP Today! constellationschools.com/elyria-events\n
URL:https://constellationschools.com/event/elyria-community-back-to-school-open-house/
LOCATION:300 N Abbe Rd\, Elyria\, OH\, 44035
CATEGORIES:Calendar Only,Prospective Families, Events, Home
END:VEVENT
BEGIN:VEVENT
DTSTART;TZID=America/New_York:20230822T160000
DTEND;TZID=America/New_York:20230822T180000
DTSTAMP:20260424T173506
CREATED:20230810T202812Z
LAST-MODIFIED:20230810T202812Z
UID:34543-1692720000-1692727200@constellationschools.com
SUMMARY:Lorain Community - Back to School Open House
DESCRIPTION:Welcome back to school! Join us for open house to meet the principal\, teachers and staff & to tour our school. It is not too late to enroll for the 2023-24 school year & we will have staff ready to assist new families in the enrollment process. \nRSVP Today! https://constellationschools.com/lorain-events/ \n
URL:https://constellationschools.com/event/lorain-community-back-to-school-open-house/
LOCATION:1110 W 4th St\, Lorain\, OH\, 44052\, United States
CATEGORIES:Calendar Only,Prospective Families, Events, Home
END:VEVENT
BEGIN:VEVENT
DTSTART;TZID=America/New_York:20230822T160000
DTEND;TZID=America/New_York:20230822T190000
DTSTAMP:20260424T173506
CREATED:20230811T131014Z
LAST-MODIFIED:20230811T131014Z
UID:34567-1692720000-1692730800@constellationschools.com
SUMMARY:Parma Pearl Rd - Back to School Open House
DESCRIPTION:Welcome back to school! Join us for open house to meet the principal\, teachers and staff & to tour our school. It is not too late to enroll for the 2023-24 school year & we will have staff ready to assist new families in the enrollment process. \nRSVP Today! https://constellationschools.com/parma-pearl-rd-elementary-events/ \n
URL:https://constellationschools.com/event/parma-pearl-rd-back-to-school-open-house/
LOCATION:6125 Pearl Rd\, Parma Heights\, OH\, 44130
CATEGORIES:Calendar Only,Prospective Families, Events, Home
END:VEVENT
BEGIN:VEVENT
DTSTART;TZID=America/New_York:20230822T160000
DTEND;TZID=America/New_York:20230822T180000
DTSTAMP:20260424T173506
CREATED:20230815T130953Z
LAST-MODIFIED:20230815T130953Z
UID:34705-1692720000-1692727200@constellationschools.com
SUMMARY:Old Brooklyn Community - Back to School Open House & Lemonade Stand
DESCRIPTION:Welcome back to school! Join us for lemonade and open house to meet the principal\, teachers and staff & to tour our school. It is not too late to enroll for the 2023-24 school year & we will have staff ready to assist new families in the enrollment process. \nRSVP Today! constellationschools.com/old-brooklyn-events \n
URL:https://constellationschools.com/event/old-brooklyn-community-back-to-school-open-house-lemonade-stand/
LOCATION:4430 State Rd\, Cleveland\, OH\, 44109
CATEGORIES:Calendar Only,Prospective Families, Events, Home
END:VEVENT
END:VCALENDAR