BEGIN:VCALENDAR
VERSION:2.0
PRODID:-//Constellation Schools - ECPv4.6.16//NONSGML v1.0//EN
CALSCALE:GREGORIAN
METHOD:PUBLISH
X-WR-CALNAME:Constellation Schools
X-ORIGINAL-URL:https://constellationschools.com
X-WR-CALDESC:Events for Constellation Schools
BEGIN:VEVENT
DTSTART;TZID=America/New_York:20240504T130000
DTEND;TZID=America/New_York:20240504T150000
DTSTAMP:20260424T031332
CREATED:20240426T153412Z
LAST-MODIFIED:20240426T153412Z
UID:40429-1714827600-1714834800@constellationschools.com
SUMMARY:Eastside Arts: Barnyard Bash & Petting Zoo
DESCRIPTION:Calling all party animals! Join us for a barnyard bash at Barkwill Park & learn about our school! Kids will experience getting up close to animals at this free petting zoo. Families interested in enrollment will have the opportunity to speak with staff and learn about our school.  \nRSVP Today! https://accelschools.com/cle/ \n
URL:https://constellationschools.com/event/eastside-arts-barnyard-bash-petting-zoo/
CATEGORIES:Calendar Only,Prospective Families, Events, Home
END:VEVENT
END:VCALENDAR