BEGIN:VCALENDAR
VERSION:2.0
PRODID:-//Constellation Schools - ECPv4.6.16//NONSGML v1.0//EN
CALSCALE:GREGORIAN
METHOD:PUBLISH
X-WR-CALNAME:Constellation Schools
X-ORIGINAL-URL:https://constellationschools.com
X-WR-CALDESC:Events for Constellation Schools
BEGIN:VEVENT
DTSTART;VALUE=DATE:20240524
DTEND;VALUE=DATE:20240525
DTSTAMP:20260424T031332
CREATED:20230328T165549Z
LAST-MODIFIED:20230328T165549Z
UID:30377-1716508800-1716595199@constellationschools.com
SUMMARY:Building Workday
DESCRIPTION:
URL:https://constellationschools.com/event/building-workday/
LOCATION:5730 Broadview Road\, Parma\, OH\, 44134
CATEGORIES:Calendar Only
END:VEVENT
END:VCALENDAR