BEGIN:VCALENDAR
VERSION:2.0
PRODID:-//Constellation Schools - ECPv4.6.16//NONSGML v1.0//EN
CALSCALE:GREGORIAN
METHOD:PUBLISH
X-WR-CALNAME:Constellation Schools
X-ORIGINAL-URL:https://constellationschools.com
X-WR-CALDESC:Events for Constellation Schools
BEGIN:VEVENT
DTSTART;TZID=America/New_York:20240717T120000
DTEND;TZID=America/New_York:20240717T140000
DTSTAMP:20260423T234635
CREATED:20240610T151924Z
LAST-MODIFIED:20240610T151924Z
UID:41554-1721217600-1721224800@constellationschools.com
SUMMARY:Eastside Arts - Family Fun Fest
DESCRIPTION:Join us for a FREE & FUN event to celebrate the Eastside Arts Academy where we will have a family-friendly Foam party! Refreshments will be provided. Meet our principal\, teachers\, and staff & learn about our school. Bring a friend & RSVP Today. constellationschools.com/eastside-events \nDon’t forget to bring a beach towel!! \n
URL:https://constellationschools.com/event/eastside-arts-family-fun-fest/
LOCATION:6700 Lansing Ave\, Cleveland\, OH\, 44105
CATEGORIES:Calendar Only,Prospective Families, Events, Home
END:VEVENT
END:VCALENDAR