BEGIN:VCALENDAR
VERSION:2.0
PRODID:-//Constellation Schools - ECPv4.6.16//NONSGML v1.0//EN
CALSCALE:GREGORIAN
METHOD:PUBLISH
X-WR-CALNAME:Constellation Schools
X-ORIGINAL-URL:https://constellationschools.com
X-WR-CALDESC:Events for Constellation Schools
BEGIN:VEVENT
DTSTART;TZID=America/New_York:20240812T130000
DTEND;TZID=America/New_York:20240812T150000
DTSTAMP:20260423T223011
CREATED:20240708T171916Z
LAST-MODIFIED:20240708T171916Z
UID:41977-1723467600-1723474800@constellationschools.com
SUMMARY:Lorain Community - Bounce Back to School
DESCRIPTION:The school year is about to begin & it’s not too late to enroll! Join us to celebrate the back to school season and prepare for the year ahead. Come to our BTS Bash to enjoy inflatable\, face painting\, food & refreshments\, balloon artist\, giveaways\, and to meet our teachers. Start or finalize your enrollment paperwork with the help of our team.  \nRSVP Today! constellationschools.com/lorain-events \n
URL:https://constellationschools.com/event/lorain-community-bounce-back-to-school/
LOCATION:1110 W 4th St\, Lorain\, OH\, 44052\, United States
CATEGORIES:Calendar Only,Prospective Families, Events, Home
END:VEVENT
END:VCALENDAR