BEGIN:VCALENDAR
VERSION:2.0
PRODID:-//Constellation Schools - ECPv4.6.16//NONSGML v1.0//EN
CALSCALE:GREGORIAN
METHOD:PUBLISH
X-WR-CALNAME:Constellation Schools
X-ORIGINAL-URL:https://constellationschools.com
X-WR-CALDESC:Events for Constellation Schools
BEGIN:VEVENT
DTSTART;VALUE=DATE:20240813
DTEND;VALUE=DATE:20240817
DTSTAMP:20260423T222010
CREATED:20240404T164552Z
LAST-MODIFIED:20240404T164552Z
UID:39892-1723507200-1723852799@constellationschools.com
SUMMARY:In-Service\, Professional Development
DESCRIPTION:
URL:https://constellationschools.com/event/in-service-professional-development/
LOCATION:5730 Broadview Road\, Parma\, OH\, 44134
CATEGORIES:Calendar Only
END:VEVENT
BEGIN:VEVENT
DTSTART;TZID=America/New_York:20240816T120000
DTEND;TZID=America/New_York:20240816T150000
DTSTAMP:20260423T222010
CREATED:20240723T153149Z
LAST-MODIFIED:20240723T153149Z
UID:42226-1723809600-1723820400@constellationschools.com
SUMMARY:Stockyard Community - Back to School Bash
DESCRIPTION:The school year is about to begin & it’s not too late to enroll! Join us to celebrate the back to school season and prepare for the year ahead. Come to our BTS Bash to enjoy inflatable games & activities\, school tours\, and meet our teachers. Start or finalize your enrollment paperwork with the help of our team. \nRSVP Today! constellationschools.com/stockyard-events \n• 12:15-1:00 School Leader Presentation\n• 1:00-1:30 School Tours & Meet the Teacher\n• 1:30-3:00 Outside Fun \n
URL:https://constellationschools.com/event/stockyard-community-back-to-school-bash/
LOCATION:3200 W 65th Street\, Cleveland\, OH\, 44102\, United States
CATEGORIES:Calendar Only,Prospective Families, Events, Home
END:VEVENT
END:VCALENDAR