BEGIN:VCALENDAR
VERSION:2.0
PRODID:-//Constellation Schools - ECPv4.6.16//NONSGML v1.0//EN
CALSCALE:GREGORIAN
METHOD:PUBLISH
X-WR-CALNAME:Constellation Schools
X-ORIGINAL-URL:https://constellationschools.com
X-WR-CALDESC:Events for Constellation Schools
BEGIN:VEVENT
DTSTART;VALUE=DATE:20241022
DTEND;VALUE=DATE:20241023
DTSTAMP:20260423T193033
CREATED:20240404T165642Z
LAST-MODIFIED:20240404T165642Z
UID:39922-1729555200-1729641599@constellationschools.com
SUMMARY:In-Service\, Professional Development (No School for Students)
DESCRIPTION:
URL:https://constellationschools.com/event/in-service-professional-development-no-school-for-students/
LOCATION:5730 Broadview Road\, Parma\, OH\, 44134
CATEGORIES:Calendar Only
END:VEVENT
END:VCALENDAR