BEGIN:VCALENDAR
VERSION:2.0
PRODID:-//Constellation Schools - ECPv4.6.16//NONSGML v1.0//EN
CALSCALE:GREGORIAN
METHOD:PUBLISH
X-WR-CALNAME:Constellation Schools
X-ORIGINAL-URL:https://constellationschools.com
X-WR-CALDESC:Events for Constellation Schools
BEGIN:VEVENT
DTSTART;VALUE=DATE:20241126
DTEND;VALUE=DATE:20241128
DTSTAMP:20260423T181120
CREATED:20240404T170526Z
LAST-MODIFIED:20240404T170526Z
UID:39946-1732579200-1732751999@constellationschools.com
SUMMARY:Building Closed (Year-Round Staff Report)
DESCRIPTION:
URL:https://constellationschools.com/event/building-closed-year-round-staff-report-2/
LOCATION:5730 Broadview Road\, Parma\, OH\, 44134
CATEGORIES:Calendar Only
END:VEVENT
END:VCALENDAR