BEGIN:VCALENDAR
VERSION:2.0
PRODID:-//Constellation Schools - ECPv4.6.16//NONSGML v1.0//EN
CALSCALE:GREGORIAN
METHOD:PUBLISH
X-WR-CALNAME:Constellation Schools
X-ORIGINAL-URL:https://constellationschools.com
X-WR-CALDESC:Events for Constellation Schools
BEGIN:VEVENT
DTSTART;TZID=America/New_York:20250128T163000
DTEND;TZID=America/New_York:20250128T173000
DTSTAMP:20260423T143132
CREATED:20241223T203209Z
LAST-MODIFIED:20250108T143944Z
UID:43744-1738081800-1738085400@constellationschools.com
SUMMARY:Westside Community - Kindergarten Signing Day
DESCRIPTION:Celebrate our newest class of students at Kindergarten Signing Day! This special event is modeled after the signing day for student athletes & celebrates the students who officially commit to joining Constellation Schools: Westside Community School of the Arts for the upcoming\nschool year. \nJoin us for fun activities\, snacks\, school swag & the opportunity to tour the school and meet our teachers\, principal\, and staff. \nRSVP Today: constellationschools.com/westside-events  \n
URL:https://constellationschools.com/event/westside-community-kindergarten-signing-day/
LOCATION:3727 Bosworth Rd\, Cleveland\, OH\, 44111
CATEGORIES:Calendar Only,Prospective Families, Events, Home
END:VEVENT
BEGIN:VEVENT
DTSTART;TZID=America/New_York:20250128T180000
DTEND;TZID=America/New_York:20250128T190000
DTSTAMP:20260423T143132
CREATED:20250110T171151Z
LAST-MODIFIED:20250110T171151Z
UID:43796-1738087200-1738090800@constellationschools.com
SUMMARY:Elyria Community Elementary - Kindergarten Signing Day
DESCRIPTION:Celebrate our newest class of students at Kindergarten Signing Day! This special event is modeled after the signing day for student athletes & celebrates the students who officially commit to joining Constellation\nSchools – Elyria Community Elementary for the upcoming school year. \nIt’s a special day for the Class! Join us for fun activities\, snacks\, school swag & the opportunity to tour the school and meet our teachers\, principal\, and staff. \nRSVP Today: https://constellationschools.com/elyria-events \n
URL:https://constellationschools.com/event/elyria-community-elementary-kindergarten-signing-day/
LOCATION:300 N Abbe Rd\, Elyria\, OH\, 44035
CATEGORIES:Calendar Only,Prospective Families, Events, Home
END:VEVENT
END:VCALENDAR