BEGIN:VCALENDAR
VERSION:2.0
PRODID:-//Constellation Schools - ECPv4.6.16//NONSGML v1.0//EN
CALSCALE:GREGORIAN
METHOD:PUBLISH
X-WR-CALNAME:Constellation Schools
X-ORIGINAL-URL:https://constellationschools.com
X-WR-CALDESC:Events for Constellation Schools
BEGIN:VEVENT
DTSTART;TZID=America/New_York:20250405T110000
DTEND;TZID=America/New_York:20250405T130000
DTSTAMP:20260423T112607
CREATED:20250306T145923Z
LAST-MODIFIED:20250306T145923Z
UID:44327-1743850800-1743858000@constellationschools.com
SUMMARY:4th Annual Kindergarten Fair
DESCRIPTION:Swim by our Cleveland Kindergarten Fair at the Cleveland Aquarium to learn about our Kindergarten programs and early entrance options for students ages 4-5! \nChoose the best fit for your family from over 30 unique programs throughout Metro Cleveland:\n• Arts Schools\n• Sports Academies\n• Premier Early Learning Schools\n• College Prep Programs\n• Award-Winning\, Top-Performing Schools! \nJoin us for:\n• K Info & Resources\n• Free Giveaways\n• Live DJ Music with 107.9fm\n• Free Aquarium Entry for the first 300 attendees! (Families with children Ages 4-5) \nRSVP Today! accelschools.com/kinderfair\n \n
URL:https://constellationschools.com/event/4th-annual-kindergarten-fair/
LOCATION:2000 Sycamore St\, Cleveland\, OH\, 44113
CATEGORIES:Calendar Only,Prospective Families, Events, Home
END:VEVENT
END:VCALENDAR