BEGIN:VCALENDAR
VERSION:2.0
PRODID:-//Constellation Schools - ECPv4.6.16//NONSGML v1.0//EN
CALSCALE:GREGORIAN
METHOD:PUBLISH
X-WR-CALNAME:Constellation Schools
X-ORIGINAL-URL:https://constellationschools.com
X-WR-CALDESC:Events for Constellation Schools
BEGIN:VEVENT
DTSTART;TZID=America/New_York:20250410T180000
DTEND;TZID=America/New_York:20250410T190000
DTSTAMP:20260423T112607
CREATED:20250327T142010Z
LAST-MODIFIED:20250327T142010Z
UID:44481-1744308000-1744311600@constellationschools.com
SUMMARY:Elyria Community - Kindergarten Signing Day
DESCRIPTION:Celebrate our newest class of students at Kindergarten Signing Day! This special event is modeled after the signing day for student athletes & celebrates the students who officially commit to joining Constellation Schools: Elyria Community Elementary for the upcoming school year. \nIt’s a special day! Join us for fun activities\, school swag & the opportunity to tour the school and meet staff.  \nRSVP constellationschools.com/elyria-events \n
URL:https://constellationschools.com/event/elyria-community-kindergarten-signing-day/
LOCATION:300 N Abbe Rd\, Elyria\, OH\, 44035
CATEGORIES:Calendar Only,Prospective Families, Events, Home
END:VEVENT
END:VCALENDAR