BEGIN:VCALENDAR
VERSION:2.0
PRODID:-//Constellation Schools - ECPv4.6.16//NONSGML v1.0//EN
CALSCALE:GREGORIAN
METHOD:PUBLISH
X-WR-CALNAME:Constellation Schools
X-ORIGINAL-URL:https://constellationschools.com
X-WR-CALDESC:Events for Constellation Schools
BEGIN:VEVENT
DTSTART;TZID=America/New_York:20250416T163000
DTEND;TZID=America/New_York:20250416T173000
DTSTAMP:20260423T112621
CREATED:20250402T152112Z
LAST-MODIFIED:20250402T152250Z
UID:44528-1744821000-1744824600@constellationschools.com
SUMMARY:Westside Community - Kindergarten Signing Day
DESCRIPTION:Celebrate our newest class of students at Kindergarten Signing Day! This special event is modeled after the signing day for student athletes & celebrates the students who officially commit to joining Constellation Schools: Westside Community School of the Arts for the upcoming school year.\nIt’s a special day! Join us for fun activities\, school swag & the opportunity to tour the school and meet staff. \nRSVP today: constellationschools.com/westside-events \n
URL:https://constellationschools.com/event/westside-community-kindergarten-signing-day-2/
LOCATION:3727 Bosworth Rd\, Cleveland\, OH\, 44111
CATEGORIES:Calendar Only,Prospective Families, Events, Home
END:VEVENT
END:VCALENDAR