BEGIN:VCALENDAR
VERSION:2.0
PRODID:-//Constellation Schools - ECPv4.6.16//NONSGML v1.0//EN
CALSCALE:GREGORIAN
METHOD:PUBLISH
X-WR-CALNAME:Constellation Schools
X-ORIGINAL-URL:https://constellationschools.com
X-WR-CALDESC:Events for Constellation Schools
BEGIN:VEVENT
DTSTART;TZID=America/New_York:20250501T180000
DTEND;TZID=America/New_York:20250501T190000
DTSTAMP:20260423T100424
CREATED:20250410T140600Z
LAST-MODIFIED:20250410T140600Z
UID:44571-1746122400-1746126000@constellationschools.com
SUMMARY:Old Brooklyn - Kindergarten Signing Day
DESCRIPTION:Celebrate our newest class of students at Kindergarten Signing Day! This special event is modeled after the signing day for student athletes & celebrates the students who officially commit to joining Constellation Schools: Old Brooklyn Community Elementary for the upcoming school year.\nIt’s a special day! Join us for fun activities\, school swag & the opportunity to tour the school and meet staff.\n \nRSVP Today! constellationschools.com/old-brooklyn-events \n
URL:https://constellationschools.com/event/old-brooklyn-kindergarten-signing-day/
LOCATION:4430 State Rd\, Cleveland\, OH\, 44109
CATEGORIES:Calendar Only,Prospective Families, Events, Home
END:VEVENT
END:VCALENDAR