BEGIN:VCALENDAR
VERSION:2.0
PRODID:-//Constellation Schools - ECPv4.6.16//NONSGML v1.0//EN
CALSCALE:GREGORIAN
METHOD:PUBLISH
X-WR-CALNAME:Constellation Schools
X-ORIGINAL-URL:https://constellationschools.com
X-WR-CALDESC:Events for Constellation Schools
BEGIN:VEVENT
DTSTART;TZID=America/New_York:20250529T083000
DTEND;TZID=America/New_York:20250529T103000
DTSTAMP:20260423T101006
CREATED:20250415T191107Z
LAST-MODIFIED:20250415T191411Z
UID:44600-1748507400-1748514600@constellationschools.com
SUMMARY:Puritas Elementary - Kindergarten Signing Day
DESCRIPTION:Celebrate our newest class of students at Kindergarten Signing Day! This special event is modeled after the signing day for student athletes & celebrates the students who officially commit to joining Constellation Schools: Puritas Community for the upcoming school year.\nIt’s a special day! Join us for fun activities\, school swag & the opportunity to tour the school and meet staff. \n\nRSVP Today: constellationschools.com/puritas-events \n
URL:https://constellationschools.com/event/puritas-elementary-kindergarten-signing-day-2/
LOCATION:17720 Puritas Ave\, Cleveland\, OH\, 44135
CATEGORIES:Calendar Only,Prospective Families, Events, Home
END:VEVENT
END:VCALENDAR