BEGIN:VCALENDAR
VERSION:2.0
PRODID:-//Constellation Schools - ECPv4.6.16//NONSGML v1.0//EN
CALSCALE:GREGORIAN
METHOD:PUBLISH
X-WR-CALNAME:Constellation Schools
X-ORIGINAL-URL:https://constellationschools.com
X-WR-CALDESC:Events for Constellation Schools
BEGIN:VEVENT
DTSTART;TZID=America/New_York:20250605T180000
DTEND;TZID=America/New_York:20250605T200000
DTSTAMP:20260423T081136
CREATED:20250602T183648Z
LAST-MODIFIED:20250602T183648Z
UID:44874-1749146400-1749153600@constellationschools.com
SUMMARY:Sneaker Fam Jam
DESCRIPTION:Get ready for a night like no other with the family! The Sneaker Fam Jam is where fashion meets style. Whether you’re coming to turn heads or tear up the dance floor\, this is your moment to shine. Enjoy music\, dancing\, sneaker parade\, free food and drinks and receive enrollment support.  \nRSVP Today! accelschools.com/sneaker \n
URL:https://constellationschools.com/event/sneaker-fam-jam/
LOCATION:1800 W Erie Ave\, Lorain\, OH\, 44052\, United States
CATEGORIES:Calendar Only,Prospective Families, Events, Home
END:VEVENT
END:VCALENDAR