BEGIN:VCALENDAR
VERSION:2.0
PRODID:-//Constellation Schools - ECPv4.6.16//NONSGML v1.0//EN
CALSCALE:GREGORIAN
METHOD:PUBLISH
X-WR-CALNAME:Constellation Schools
X-ORIGINAL-URL:https://constellationschools.com
X-WR-CALDESC:Events for Constellation Schools
BEGIN:VEVENT
DTSTART;TZID=America/New_York:20250811T170000
DTEND;TZID=America/New_York:20250811T190000
DTSTAMP:20260423T051650
CREATED:20250805T155826Z
LAST-MODIFIED:20250805T155826Z
UID:45358-1754931600-1754938800@constellationschools.com
SUMMARY:Westpark Community - Kindergarten Signing Day
DESCRIPTION:Celebrate our newest class of students at Kindergarten Signing Day! This special event is modeled after the signing day for student athletes & celebrates the students who officially commit to joining Constellation Schools: Westpark Community Elementary for the upcoming school year. It’s a special day! Join us for fun activities\, school swag & the opportunity to tour the school and meet staff.  \nRSVP Today! constellationschools.com/westpark-events \n
URL:https://constellationschools.com/event/westpark-community-kindergarten-signing-day-2/
LOCATION:16210 Lorain Ave\, Cleveland\, OH\, 44111
CATEGORIES:Calendar Only,Prospective Families, Events, Home
END:VEVENT
END:VCALENDAR