BEGIN:VCALENDAR
VERSION:2.0
PRODID:-//Constellation Schools - ECPv4.6.16//NONSGML v1.0//EN
CALSCALE:GREGORIAN
METHOD:PUBLISH
X-WR-CALNAME:Constellation Schools
X-ORIGINAL-URL:https://constellationschools.com
X-WR-CALDESC:Events for Constellation Schools
BEGIN:VEVENT
DTSTART;TZID=America/New_York:20250918T164500
DTEND;TZID=America/New_York:20250918T180000
DTSTAMP:20260423T034204
CREATED:20250918T193704Z
LAST-MODIFIED:20250918T193704Z
UID:45860-1758213900-1758218400@constellationschools.com
SUMMARY:Girls Volleyball Game
DESCRIPTION:Parma High School vs Lake Ridge Academy \n  \n  \n  \n  \nSee Full Schedule » \n
URL:https://constellationschools.com/event/girls-volleyball-game-6/
LOCATION:37501 Center Ridge Rd\, North Ridgeville\, OH\, 44039\, United States
CATEGORIES:Calendar Only,Prospective Families, Events, Home
END:VEVENT
BEGIN:VEVENT
DTSTART;TZID=America/New_York:20250918T180000
DTEND;TZID=America/New_York:20250918T180000
DTSTAMP:20260423T034204
CREATED:20250730T194022Z
LAST-MODIFIED:20250730T194022Z
UID:45277-1758218400-1758218400@constellationschools.com
SUMMARY:Board Meeting
DESCRIPTION:
URL:https://constellationschools.com/event/board-meeting-14/
LOCATION:5983 W. 54th Street\, Parma\, OH\, 44129\, United States
CATEGORIES:Calendar Only,School Board
END:VEVENT
END:VCALENDAR