BEGIN:VCALENDAR
VERSION:2.0
PRODID:-//Constellation Schools - ECPv4.6.16//NONSGML v1.0//EN
CALSCALE:GREGORIAN
METHOD:PUBLISH
X-WR-CALNAME:Constellation Schools
X-ORIGINAL-URL:https://constellationschools.com
X-WR-CALDESC:Events for Constellation Schools
BEGIN:VEVENT
DTSTART;TZID=America/New_York:20250920T081500
DTEND;TZID=America/New_York:20250920T081500
DTSTAMP:20260423T034123
CREATED:20250929T171710Z
LAST-MODIFIED:20250929T171710Z
UID:45958-1758356100-1758356100@constellationschools.com
SUMMARY:Flag Football Game
DESCRIPTION:Madison  vs.  Elyria \n
URL:https://constellationschools.com/event/flag-football-game/
LOCATION:5983 W 54th Street\, Parma\, OH\, 44129
CATEGORIES:Calendar Only
END:VEVENT
BEGIN:VEVENT
DTSTART;TZID=America/New_York:20250920T083000
DTEND;TZID=America/New_York:20250920T083000
DTSTAMP:20260423T034123
CREATED:20250929T194330Z
LAST-MODIFIED:20250929T194330Z
UID:46053-1758357000-1758357000@constellationschools.com
SUMMARY:Volleyball Game
DESCRIPTION:Old Brooklyn vs Puritas \n
URL:https://constellationschools.com/event/volleyball-game/
LOCATION:5983 W 54th Street\, Parma\, OH\, 44129
CATEGORIES:Calendar Only
END:VEVENT
BEGIN:VEVENT
DTSTART;TZID=America/New_York:20250920T091500
DTEND;TZID=America/New_York:20250920T091500
DTSTAMP:20260423T034123
CREATED:20250929T171837Z
LAST-MODIFIED:20250929T171837Z
UID:45960-1758359700-1758359700@constellationschools.com
SUMMARY:Flag Football Game
DESCRIPTION:Stockyard vs. Puritas \n
URL:https://constellationschools.com/event/flag-football-game-2/
LOCATION:5983 W 54th Street\, Parma\, OH\, 44129
CATEGORIES:Calendar Only
END:VEVENT
BEGIN:VEVENT
DTSTART;TZID=America/New_York:20250920T093000
DTEND;TZID=America/New_York:20250920T093000
DTSTAMP:20260423T034123
CREATED:20250929T194422Z
LAST-MODIFIED:20250929T194422Z
UID:46055-1758360600-1758360600@constellationschools.com
SUMMARY:Volleyball Game
DESCRIPTION:Westpark vs. Madison \n
URL:https://constellationschools.com/event/volleyball-game-2/
LOCATION:5983 W 54th Street\, Parma\, OH\, 44129
CATEGORIES:Calendar Only
END:VEVENT
BEGIN:VEVENT
DTSTART;TZID=America/New_York:20250920T101500
DTEND;TZID=America/New_York:20250920T101500
DTSTAMP:20260423T034123
CREATED:20250929T171945Z
LAST-MODIFIED:20250929T171945Z
UID:45962-1758363300-1758363300@constellationschools.com
SUMMARY:Flag Football Game
DESCRIPTION:Lorain vs. Washington Park  \n
URL:https://constellationschools.com/event/flag-football-game-3/
LOCATION:5983 W 54th Street\, Parma\, OH\, 44129
CATEGORIES:Calendar Only
END:VEVENT
BEGIN:VEVENT
DTSTART;TZID=America/New_York:20250920T103000
DTEND;TZID=America/New_York:20250920T103000
DTSTAMP:20260423T034123
CREATED:20250929T194510Z
LAST-MODIFIED:20250929T194510Z
UID:46057-1758364200-1758364200@constellationschools.com
SUMMARY:Volleyball Game
DESCRIPTION:Parma vs Washington \n
URL:https://constellationschools.com/event/volleyball-game-3/
LOCATION:5983 W 54th Street\, Parma\, OH\, 44129
CATEGORIES:Calendar Only
END:VEVENT
BEGIN:VEVENT
DTSTART;TZID=America/New_York:20250920T111500
DTEND;TZID=America/New_York:20250920T111500
DTSTAMP:20260423T034123
CREATED:20250929T172354Z
LAST-MODIFIED:20250929T172354Z
UID:45964-1758366900-1758366900@constellationschools.com
SUMMARY:Flag Football Game
DESCRIPTION:Eastside Arts vs. Old Brooklyn \n
URL:https://constellationschools.com/event/flag-football-game-4/
LOCATION:5983 W 54th Street\, Parma\, OH\, 44129
CATEGORIES:Calendar Only
END:VEVENT
BEGIN:VEVENT
DTSTART;TZID=America/New_York:20250920T113000
DTEND;TZID=America/New_York:20250920T113000
DTSTAMP:20260423T034123
CREATED:20250929T194559Z
LAST-MODIFIED:20250929T194559Z
UID:46059-1758367800-1758367800@constellationschools.com
SUMMARY:Volleyball Game
DESCRIPTION:Stockyard vs Westside Arts \n
URL:https://constellationschools.com/event/volleyball-game-4/
LOCATION:5983 W 54th Street\, Parma\, OH\, 44129
CATEGORIES:Calendar Only
END:VEVENT
BEGIN:VEVENT
DTSTART;TZID=America/New_York:20250920T121500
DTEND;TZID=America/New_York:20250920T121500
DTSTAMP:20260423T034123
CREATED:20250929T172503Z
LAST-MODIFIED:20250929T172503Z
UID:45966-1758370500-1758370500@constellationschools.com
SUMMARY:Flag Football Game
DESCRIPTION:Westside Arts vs. Parma \n
URL:https://constellationschools.com/event/flag-football-game-5/
LOCATION:5983 W 54th Street\, Parma\, OH\, 44129
CATEGORIES:Calendar Only
END:VEVENT
BEGIN:VEVENT
DTSTART;TZID=America/New_York:20250920T123000
DTEND;TZID=America/New_York:20250920T123000
DTSTAMP:20260423T034123
CREATED:20250929T194648Z
LAST-MODIFIED:20250929T194648Z
UID:46061-1758371400-1758371400@constellationschools.com
SUMMARY:Volleyball Game
DESCRIPTION:Lorain vs Eastside Arts \n
URL:https://constellationschools.com/event/volleyball-game-5/
LOCATION:5983 W 54th Street\, Parma\, OH\, 44129
CATEGORIES:Calendar Only
END:VEVENT
END:VCALENDAR