BEGIN:VCALENDAR
VERSION:2.0
PRODID:-//Constellation Schools - ECPv4.6.16//NONSGML v1.0//EN
CALSCALE:GREGORIAN
METHOD:PUBLISH
X-WR-CALNAME:Constellation Schools
X-ORIGINAL-URL:https://constellationschools.com
X-WR-CALDESC:Events for Constellation Schools
BEGIN:VEVENT
DTSTART;TZID=America/New_York:20250925T170000
DTEND;TZID=America/New_York:20250925T180000
DTSTAMP:20260423T034204
CREATED:20250918T192044Z
LAST-MODIFIED:20250918T192228Z
UID:45847-1758819600-1758823200@constellationschools.com
SUMMARY:Girls Volleyball Game
DESCRIPTION:Parma High School vs Brook Park Recreation (Conroy) \n  \n  \n  \nSee Full Schedule » \n
URL:https://constellationschools.com/event/girls-volleyball-game/
LOCATION:5983 W 54th Street\, Parma\, OH\, 44129
CATEGORIES:Calendar Only,Prospective Families, Events, Home
END:VEVENT
END:VCALENDAR