BEGIN:VCALENDAR
VERSION:2.0
PRODID:-//Constellation Schools - ECPv4.6.16//NONSGML v1.0//EN
CALSCALE:GREGORIAN
METHOD:PUBLISH
X-WR-CALNAME:Constellation Schools
X-ORIGINAL-URL:https://constellationschools.com
X-WR-CALDESC:Events for Constellation Schools
BEGIN:VEVENT
DTSTART;TZID=America/New_York:20251011T081500
DTEND;TZID=America/New_York:20251011T081500
DTSTAMP:20260423T021027
CREATED:20250929T180439Z
LAST-MODIFIED:20250929T180439Z
UID:45988-1760170500-1760170500@constellationschools.com
SUMMARY:Flag Football Game
DESCRIPTION:Parma vs. Old Brooklyn \n
URL:https://constellationschools.com/event/flag-football-game-16/
LOCATION:5983 W 54th Street\, Parma\, OH\, 44129
CATEGORIES:Calendar Only
END:VEVENT
BEGIN:VEVENT
DTSTART;TZID=America/New_York:20251011T083000
DTEND;TZID=America/New_York:20251011T083000
DTSTAMP:20260423T021027
CREATED:20250929T201406Z
LAST-MODIFIED:20250929T201406Z
UID:46081-1760171400-1760171400@constellationschools.com
SUMMARY:Volleyball Game
DESCRIPTION:Elyria vs. Lorain \n
URL:https://constellationschools.com/event/volleyball-game-15/
LOCATION:1110 W 4th St\, Lorain\, OH\, 44052\, United States
CATEGORIES:Calendar Only
END:VEVENT
BEGIN:VEVENT
DTSTART;TZID=America/New_York:20251011T091500
DTEND;TZID=America/New_York:20251011T091500
DTSTAMP:20260423T021027
CREATED:20250929T180552Z
LAST-MODIFIED:20250929T180552Z
UID:45990-1760174100-1760174100@constellationschools.com
SUMMARY:Flag Football Game
DESCRIPTION:Stockyard vs. Eastside Arts \n
URL:https://constellationschools.com/event/flag-football-game-17/
LOCATION:5983 W 54th Street\, Parma\, OH\, 44129
CATEGORIES:Calendar Only
END:VEVENT
BEGIN:VEVENT
DTSTART;TZID=America/New_York:20251011T093000
DTEND;TZID=America/New_York:20251011T093000
DTSTAMP:20260423T021027
CREATED:20250929T201541Z
LAST-MODIFIED:20250929T201541Z
UID:46083-1760175000-1760175000@constellationschools.com
SUMMARY:Volleyball Game
DESCRIPTION:Westside Arts vs Parma \n
URL:https://constellationschools.com/event/volleyball-game-16/
LOCATION:1110 W 4th St\, Lorain\, OH\, 44052\, United States
CATEGORIES:Calendar Only
END:VEVENT
BEGIN:VEVENT
DTSTART;TZID=America/New_York:20251011T101500
DTEND;TZID=America/New_York:20251011T101500
DTSTAMP:20260423T021027
CREATED:20250929T180707Z
LAST-MODIFIED:20250929T180707Z
UID:45992-1760177700-1760177700@constellationschools.com
SUMMARY:Flag Football Game
DESCRIPTION:Elyria vs. Washington Park \n
URL:https://constellationschools.com/event/flag-football-game-18/
LOCATION:5983 W 54th Street\, Parma\, OH\, 44129
CATEGORIES:Calendar Only
END:VEVENT
BEGIN:VEVENT
DTSTART;TZID=America/New_York:20251011T103000
DTEND;TZID=America/New_York:20251011T103000
DTSTAMP:20260423T021027
CREATED:20250929T201631Z
LAST-MODIFIED:20250929T201631Z
UID:46085-1760178600-1760178600@constellationschools.com
SUMMARY:Volleyball Game
DESCRIPTION:Madison vs Stockyard \n
URL:https://constellationschools.com/event/volleyball-game-17/
LOCATION:1110 W 4th St\, Lorain\, OH\, 44052\, United States
CATEGORIES:Calendar Only
END:VEVENT
BEGIN:VEVENT
DTSTART;TZID=America/New_York:20251011T111500
DTEND;TZID=America/New_York:20251011T111500
DTSTAMP:20260423T021027
CREATED:20250929T180858Z
LAST-MODIFIED:20250929T180858Z
UID:45994-1760181300-1760181300@constellationschools.com
SUMMARY:Flag Football Game
DESCRIPTION:Puritas vs. Madison \n
URL:https://constellationschools.com/event/flag-football-game-19/
LOCATION:5983 W 54th Street\, Parma\, OH\, 44129
CATEGORIES:Calendar Only
END:VEVENT
BEGIN:VEVENT
DTSTART;TZID=America/New_York:20251011T113000
DTEND;TZID=America/New_York:20251011T113000
DTSTAMP:20260423T021027
CREATED:20250929T201842Z
LAST-MODIFIED:20250929T201842Z
UID:46087-1760182200-1760182200@constellationschools.com
SUMMARY:Volleyball Game
DESCRIPTION:Eastside Arts vs Old Brooklyn \n
URL:https://constellationschools.com/event/volleyball-game-18/
LOCATION:1110 W 4th St\, Lorain\, OH\, 44052\, United States
CATEGORIES:Calendar Only
END:VEVENT
BEGIN:VEVENT
DTSTART;TZID=America/New_York:20251011T121500
DTEND;TZID=America/New_York:20251011T121500
DTSTAMP:20260423T021027
CREATED:20250929T181229Z
LAST-MODIFIED:20250929T181229Z
UID:45996-1760184900-1760184900@constellationschools.com
SUMMARY:Flag Football Game
DESCRIPTION:Lorain vs. Westside Arts \n
URL:https://constellationschools.com/event/flag-football-game-20/
LOCATION:5983 W 54th Street\, Parma\, OH\, 44129
CATEGORIES:Calendar Only
END:VEVENT
BEGIN:VEVENT
DTSTART;TZID=America/New_York:20251011T123000
DTEND;TZID=America/New_York:20251011T123000
DTSTAMP:20260423T021027
CREATED:20250929T201939Z
LAST-MODIFIED:20250929T202606Z
UID:46089-1760185800-1760185800@constellationschools.com
SUMMARY:Volleyball Game
DESCRIPTION:Washington vs Puritas \n
URL:https://constellationschools.com/event/volleyball-game-19/
LOCATION:1110 W 4th St\, Lorain\, OH\, 44052\, United States
CATEGORIES:Calendar Only
END:VEVENT
BEGIN:VEVENT
DTSTART;TZID=America/New_York:20251011T133000
DTEND;TZID=America/New_York:20251011T141500
DTSTAMP:20260423T021027
CREATED:20250918T192617Z
LAST-MODIFIED:20250918T192617Z
UID:45853-1760189400-1760192100@constellationschools.com
SUMMARY:Girls Volleyball Game
DESCRIPTION:Parma High School vs Lake Ridge Academy \n  \n  \n  \n  \nSee Full Schedule » \n
URL:https://constellationschools.com/event/girls-volleyball-game-3/
LOCATION:5983 W 54th Street\, Parma\, OH\, 44129
CATEGORIES:Calendar Only,Prospective Families, Events, Home
END:VEVENT
END:VCALENDAR