BEGIN:VCALENDAR
VERSION:2.0
PRODID:-//Constellation Schools - ECPv4.6.16//NONSGML v1.0//EN
CALSCALE:GREGORIAN
METHOD:PUBLISH
X-WR-CALNAME:Constellation Schools
X-ORIGINAL-URL:https://constellationschools.com
X-WR-CALDESC:Events for Constellation Schools
BEGIN:VEVENT
DTSTART;TZID=America/New_York:20251023T170000
DTEND;TZID=America/New_York:20251023T183000
DTSTAMP:20260423T021028
CREATED:20250929T122741Z
LAST-MODIFIED:20250929T122741Z
UID:45954-1761238800-1761244200@constellationschools.com
SUMMARY:Madison Community - Tables & Treats
DESCRIPTION:Get ready for a night of spooktacular fun! Join us for our Tables and Treats\, where you can show off your best costume and collect tons of treats from decorated tables. It’s a night of family fun you won’t want to miss!  \nRSVP Today constellationschools.com/madison-events \n
URL:https://constellationschools.com/event/madison-community-tables-treats/
LOCATION:2015 West 95th St\, Cleveland\, OH\, 44102
CATEGORIES:Calendar Only,Prospective Families, Events, Home
END:VEVENT
BEGIN:VEVENT
DTSTART;TZID=America/New_York:20251023T170000
DTEND;TZID=America/New_York:20251023T180000
DTSTAMP:20260423T021028
CREATED:20251016T132530Z
LAST-MODIFIED:20251016T160716Z
UID:46207-1761238800-1761242400@constellationschools.com
SUMMARY:Girls Volleyball Game
DESCRIPTION:Parma High School vs Horizon Science Cleveland \n
URL:https://constellationschools.com/event/girls-volleyball-game-12/
LOCATION:5983 W 54th Street\, Parma\, OH\, 44129
CATEGORIES:Calendar Only
END:VEVENT
END:VCALENDAR