BEGIN:VCALENDAR
VERSION:2.0
PRODID:-//Constellation Schools - ECPv4.6.16//NONSGML v1.0//EN
CALSCALE:GREGORIAN
METHOD:PUBLISH
X-WR-CALNAME:Constellation Schools
X-ORIGINAL-URL:https://constellationschools.com
X-WR-CALDESC:Events for Constellation Schools
BEGIN:VEVENT
DTSTART;TZID=America/New_York:20251025T081500
DTEND;TZID=America/New_York:20251025T081500
DTSTAMP:20260423T021027
CREATED:20250929T183721Z
LAST-MODIFIED:20250929T183721Z
UID:46008-1761380100-1761380100@constellationschools.com
SUMMARY:Flag Football Game
DESCRIPTION:Old Brooklyn vs. Westside Arts \n
URL:https://constellationschools.com/event/flag-football-game-26/
LOCATION:5983 W 54th Street\, Parma\, OH\, 44129
CATEGORIES:Calendar Only
END:VEVENT
BEGIN:VEVENT
DTSTART;TZID=America/New_York:20251025T083000
DTEND;TZID=America/New_York:20251025T083000
DTSTAMP:20260423T021027
CREATED:20250929T203601Z
LAST-MODIFIED:20250929T203601Z
UID:46112-1761381000-1761381000@constellationschools.com
SUMMARY:Volleyball Game
DESCRIPTION:Washington vs Westpark \n
URL:https://constellationschools.com/event/volleyball-game-30/
LOCATION:5983 W 54th Street\, Parma\, OH\, 44129
CATEGORIES:Calendar Only
END:VEVENT
BEGIN:VEVENT
DTSTART;TZID=America/New_York:20251025T091500
DTEND;TZID=America/New_York:20251025T091500
DTSTAMP:20260423T021027
CREATED:20250929T183847Z
LAST-MODIFIED:20250929T183940Z
UID:46010-1761383700-1761383700@constellationschools.com
SUMMARY:Flag Football Game
DESCRIPTION:Elyria vs. Stockyard \n
URL:https://constellationschools.com/event/flag-football-game-27/
LOCATION:5983 W 54th Street\, Parma\, OH\, 44129
CATEGORIES:Calendar Only
END:VEVENT
BEGIN:VEVENT
DTSTART;TZID=America/New_York:20251025T093000
DTEND;TZID=America/New_York:20251025T093000
DTSTAMP:20260423T021027
CREATED:20250929T203638Z
LAST-MODIFIED:20250929T203638Z
UID:46114-1761384600-1761384600@constellationschools.com
SUMMARY:Volleyball Game
DESCRIPTION:Parma vs Stockyard \n
URL:https://constellationschools.com/event/volleyball-game-31/
LOCATION:5983 W 54th Street\, Parma\, OH\, 44129
CATEGORIES:Calendar Only
END:VEVENT
BEGIN:VEVENT
DTSTART;TZID=America/New_York:20251025T101500
DTEND;TZID=America/New_York:20251025T101500
DTSTAMP:20260423T021027
CREATED:20250929T184043Z
LAST-MODIFIED:20250929T184043Z
UID:46012-1761387300-1761387300@constellationschools.com
SUMMARY:Flag Football Game
DESCRIPTION:Madison vs. Parma \n
URL:https://constellationschools.com/event/flag-football-game-28/
LOCATION:5983 W 54th Street\, Parma\, OH\, 44129
CATEGORIES:Calendar Only
END:VEVENT
BEGIN:VEVENT
DTSTART;TZID=America/New_York:20251025T103000
DTEND;TZID=America/New_York:20251025T103000
DTSTAMP:20260423T021027
CREATED:20250929T203723Z
LAST-MODIFIED:20250929T203723Z
UID:46116-1761388200-1761388200@constellationschools.com
SUMMARY:Volleyball Game
DESCRIPTION:Old Brooklyn vs Elyria \n
URL:https://constellationschools.com/event/volleyball-game-32/
LOCATION:5983 W 54th Street\, Parma\, OH\, 44129
CATEGORIES:Calendar Only
END:VEVENT
BEGIN:VEVENT
DTSTART;TZID=America/New_York:20251025T111500
DTEND;TZID=America/New_York:20251025T111500
DTSTAMP:20260423T021027
CREATED:20250929T184158Z
LAST-MODIFIED:20250929T184158Z
UID:46014-1761390900-1761390900@constellationschools.com
SUMMARY:Flag Football Game
DESCRIPTION:Washington Park vs. Eastside Arts \n
URL:https://constellationschools.com/event/flag-football-game-29/
LOCATION:5983 W 54th Street\, Parma\, OH\, 44129
CATEGORIES:Calendar Only
END:VEVENT
BEGIN:VEVENT
DTSTART;TZID=America/New_York:20251025T113000
DTEND;TZID=America/New_York:20251025T113000
DTSTAMP:20260423T021027
CREATED:20250929T204645Z
LAST-MODIFIED:20250929T204645Z
UID:46118-1761391800-1761391800@constellationschools.com
SUMMARY:Volleyball Game
DESCRIPTION:Puritas vs Eastside Arts \n
URL:https://constellationschools.com/event/volleyball-game-33/
LOCATION:5983 W 54th Street\, Parma\, OH\, 44129
CATEGORIES:Calendar Only
END:VEVENT
BEGIN:VEVENT
DTSTART;TZID=America/New_York:20251025T121500
DTEND;TZID=America/New_York:20251025T121500
DTSTAMP:20260423T021027
CREATED:20250929T184310Z
LAST-MODIFIED:20250929T184310Z
UID:46016-1761394500-1761394500@constellationschools.com
SUMMARY:Flag Football Game
DESCRIPTION:Lorain vs. Puritas \n
URL:https://constellationschools.com/event/flag-football-game-30/
LOCATION:5983 W 54th Street\, Parma\, OH\, 44129
CATEGORIES:Calendar Only
END:VEVENT
BEGIN:VEVENT
DTSTART;TZID=America/New_York:20251025T123000
DTEND;TZID=America/New_York:20251025T123000
DTSTAMP:20260423T021027
CREATED:20250929T204734Z
LAST-MODIFIED:20250929T204734Z
UID:46120-1761395400-1761395400@constellationschools.com
SUMMARY:Volleyball Game
DESCRIPTION:Madison vs Lorain  \n
URL:https://constellationschools.com/event/volleyball-game-34/
LOCATION:5983 W 54th Street\, Parma\, OH\, 44129
CATEGORIES:Calendar Only
END:VEVENT
END:VCALENDAR