BEGIN:VCALENDAR
VERSION:2.0
PRODID:-//Constellation Schools - ECPv4.6.16//NONSGML v1.0//EN
CALSCALE:GREGORIAN
METHOD:PUBLISH
X-WR-CALNAME:Constellation Schools
X-ORIGINAL-URL:https://constellationschools.com
X-WR-CALDESC:Events for Constellation Schools
BEGIN:VEVENT
DTSTART;TZID=America/New_York:20251115T081500
DTEND;TZID=America/New_York:20251115T081500
DTSTAMP:20260423T004332
CREATED:20250929T190220Z
LAST-MODIFIED:20250929T190220Z
UID:46040-1763194500-1763194500@constellationschools.com
SUMMARY:Flag Football Game
DESCRIPTION:Puritas vs. Old Brooklyn  \n
URL:https://constellationschools.com/event/flag-football-game-41/
LOCATION:5983 W 54th Street\, Parma\, OH\, 44129
CATEGORIES:Calendar Only
END:VEVENT
BEGIN:VEVENT
DTSTART;TZID=America/New_York:20251115T083000
DTEND;TZID=America/New_York:20251115T083000
DTSTAMP:20260423T004332
CREATED:20250929T210054Z
LAST-MODIFIED:20250929T210054Z
UID:46144-1763195400-1763195400@constellationschools.com
SUMMARY:Volleyball Quarter Final
DESCRIPTION:Seed 6 vs Seed 3 \n
URL:https://constellationschools.com/event/volleyball-quarter-final/
LOCATION:5983 W 54th Street\, Parma\, OH\, 44129
CATEGORIES:Calendar Only
END:VEVENT
BEGIN:VEVENT
DTSTART;TZID=America/New_York:20251115T091500
DTEND;TZID=America/New_York:20251115T091500
DTSTAMP:20260423T004332
CREATED:20250929T190323Z
LAST-MODIFIED:20250929T193418Z
UID:46042-1763198100-1763198100@constellationschools.com
SUMMARY:Flag Football Game
DESCRIPTION:Washington Park vs. Madison \n
URL:https://constellationschools.com/event/flag-football-game-42/
LOCATION:5983 W 54th Street\, Parma\, OH\, 44129
CATEGORIES:Calendar Only
END:VEVENT
BEGIN:VEVENT
DTSTART;TZID=America/New_York:20251115T093000
DTEND;TZID=America/New_York:20251115T093000
DTSTAMP:20260423T004332
CREATED:20250929T210207Z
LAST-MODIFIED:20250929T210207Z
UID:46146-1763199000-1763199000@constellationschools.com
SUMMARY:Volleyball Quarterfinal
DESCRIPTION:Seed 5 vs Seed 4 \n
URL:https://constellationschools.com/event/volleyball-quarterfinal/
LOCATION:5983 W 54th Street\, Parma\, OH\, 44129
CATEGORIES:Calendar Only
END:VEVENT
BEGIN:VEVENT
DTSTART;TZID=America/New_York:20251115T101500
DTEND;TZID=America/New_York:20251115T101500
DTSTAMP:20260423T004332
CREATED:20250929T190449Z
LAST-MODIFIED:20250929T190449Z
UID:46044-1763201700-1763201700@constellationschools.com
SUMMARY:Flag Football Game
DESCRIPTION:Stockyard vs. Westside Arts \n
URL:https://constellationschools.com/event/flag-football-game-43/
LOCATION:5983 W 54th Street\, Parma\, OH\, 44129
CATEGORIES:Calendar Only
END:VEVENT
BEGIN:VEVENT
DTSTART;TZID=America/New_York:20251115T103000
DTEND;TZID=America/New_York:20251115T103000
DTSTAMP:20260423T004332
CREATED:20250929T210316Z
LAST-MODIFIED:20250929T210316Z
UID:46148-1763202600-1763202600@constellationschools.com
SUMMARY:Volleyball Semifinal
DESCRIPTION:Seed 3 or 6 vs Seed 2 \n
URL:https://constellationschools.com/event/volleyball-semifinal/
LOCATION:5983 W 54th Street\, Parma\, OH\, 44129
CATEGORIES:Calendar Only
END:VEVENT
BEGIN:VEVENT
DTSTART;TZID=America/New_York:20251115T111500
DTEND;TZID=America/New_York:20251115T111500
DTSTAMP:20260423T004332
CREATED:20250929T190711Z
LAST-MODIFIED:20250929T190737Z
UID:46046-1763205300-1763205300@constellationschools.com
SUMMARY:Flag Football Game
DESCRIPTION:Parma vs. Lorain \n
URL:https://constellationschools.com/event/flag-football-game-44/
LOCATION:5983 W 54th Street\, Parma\, OH\, 44129
CATEGORIES:Calendar Only
END:VEVENT
BEGIN:VEVENT
DTSTART;TZID=America/New_York:20251115T113000
DTEND;TZID=America/New_York:20251115T113000
DTSTAMP:20260423T004332
CREATED:20250929T210410Z
LAST-MODIFIED:20250929T210410Z
UID:46150-1763206200-1763206200@constellationschools.com
SUMMARY:Volleyball Semifinal
DESCRIPTION:Seed 4 or 5 vs Seed 1 \n
URL:https://constellationschools.com/event/volleyball-semifinal-2/
LOCATION:5983 W 54th Street\, Parma\, OH\, 44129
CATEGORIES:Calendar Only
END:VEVENT
BEGIN:VEVENT
DTSTART;TZID=America/New_York:20251115T121500
DTEND;TZID=America/New_York:20251115T121500
DTSTAMP:20260423T004332
CREATED:20250929T190814Z
LAST-MODIFIED:20250929T191234Z
UID:46049-1763208900-1763208900@constellationschools.com
SUMMARY:Flag Football Game
DESCRIPTION:Elyria vs. Eastside Arts \n
URL:https://constellationschools.com/event/flag-football-game-45/
LOCATION:5983 W 54th Street\, Parma\, OH\, 44129
CATEGORIES:Calendar Only
END:VEVENT
BEGIN:VEVENT
DTSTART;TZID=America/New_York:20251115T123000
DTEND;TZID=America/New_York:20251115T123000
DTSTAMP:20260423T004332
CREATED:20250929T210501Z
LAST-MODIFIED:20250929T210501Z
UID:46152-1763209800-1763209800@constellationschools.com
SUMMARY:Volleyball Final
DESCRIPTION:
URL:https://constellationschools.com/event/volleyball-final/
LOCATION:5983 W 54th Street\, Parma\, OH\, 44129
CATEGORIES:Calendar Only
END:VEVENT
END:VCALENDAR