BEGIN:VCALENDAR
VERSION:2.0
PRODID:-//Constellation Schools - ECPv4.6.16//NONSGML v1.0//EN
CALSCALE:GREGORIAN
METHOD:PUBLISH
X-WR-CALNAME:Constellation Schools
X-ORIGINAL-URL:https://constellationschools.com
X-WR-CALDESC:Events for Constellation Schools
BEGIN:VEVENT
DTSTART;VALUE=DATE:20260119
DTEND;VALUE=DATE:20260120
DTSTAMP:20260422T214928
CREATED:20250909T161141Z
LAST-MODIFIED:20250909T161141Z
UID:45738-1768780800-1768867199@constellationschools.com
SUMMARY:Martin Luther King Day (No School)
DESCRIPTION:
URL:https://constellationschools.com/event/martin-luther-king-day-no-school/
CATEGORIES:Calendar Only
END:VEVENT
END:VCALENDAR