BEGIN:VCALENDAR
VERSION:2.0
PRODID:-//Constellation Schools - ECPv4.6.16//NONSGML v1.0//EN
CALSCALE:GREGORIAN
METHOD:PUBLISH
X-WR-CALNAME:Constellation Schools
X-ORIGINAL-URL:https://constellationschools.com
X-WR-CALDESC:Events for Constellation Schools
BEGIN:VEVENT
DTSTART;TZID=America/New_York:20260415T160000
DTEND;TZID=America/New_York:20260415T173000
DTSTAMP:20260422T172033
CREATED:20260312T134528Z
LAST-MODIFIED:20260312T134528Z
UID:47134-1776268800-1776274200@constellationschools.com
SUMMARY:Madison - Kindergarten Signing Day
DESCRIPTION:Your child is the star player. Before Kindergarten starts\, let’s make it social! Join us for a high-energy celebration modeled after elite athletes. Watch your child sign The “Madison Mustang” Commitment. It’s the perfect first photo for their graduation scrapbook! Pick up exclusive Mustang swag—only for our newest students. Meet the Teachers and Principal to see where the magic happens. Start their journey with a win. We can’t wait to welcome our newest Madison Mustang to our family! \nRSVP Today https://constellationschools.com/madison-events/ \n
URL:https://constellationschools.com/event/madison-kindergarten-signing-day/
LOCATION:2015 West 95th St\, Cleveland\, OH\, 44102
CATEGORIES:Calendar Only,Prospective Families, Events, Home
END:VEVENT
BEGIN:VEVENT
DTSTART;TZID=America/New_York:20260415T160000
DTEND;TZID=America/New_York:20260415T170000
DTSTAMP:20260422T172033
CREATED:20260325T163503Z
LAST-MODIFIED:20260325T163503Z
UID:47454-1776268800-1776272400@constellationschools.com
SUMMARY:Parma Pearl Rd - Kindergarten Signing Day
DESCRIPTION:Celebrate our newest class of students at Kindergarten Signing Day! This special event is modeled after the signing day for student athletes & celebrates the students who officially commit to joining Constellation Schools: Parma Community Pearl Road Elementary for the upcoming school year. It’s a special day! Join us for fun activities\, school swag & the opportunity to tour the school and meet staff. \nRSVP Today! https://constellationschools.com/parma-pearl-rd-elementary-events/ \n
URL:https://constellationschools.com/event/parma-pearl-rd-kindergarten-signing-day/
LOCATION:6125 Pearl Rd\, Parma Heights\, OH\, 44130
CATEGORIES:Calendar Only,Prospective Families, Events, Home
END:VEVENT
END:VCALENDAR