BEGIN:VCALENDAR
VERSION:2.0
PRODID:-//Constellation Schools - ECPv4.6.16//NONSGML v1.0//EN
CALSCALE:GREGORIAN
METHOD:PUBLISH
X-WR-CALNAME:Constellation Schools
X-ORIGINAL-URL:https://constellationschools.com
X-WR-CALDESC:Events for Constellation Schools
BEGIN:VEVENT
DTSTART;VALUE=DATE:20260520
DTEND;VALUE=DATE:20260521
DTSTAMP:20260422T184724
CREATED:20250909T161341Z
LAST-MODIFIED:20250909T161341Z
UID:45746-1779235200-1779321599@constellationschools.com
SUMMARY:Last Day of School for Students
DESCRIPTION:
URL:https://constellationschools.com/event/last-day-school-students/
CATEGORIES:Calendar Only
END:VEVENT
END:VCALENDAR