BEGIN:VCALENDAR
VERSION:2.0
PRODID:-//Constellation Schools - ECPv4.6.16//NONSGML v1.0//EN
CALSCALE:GREGORIAN
METHOD:PUBLISH
X-WR-CALNAME:Constellation Schools
X-ORIGINAL-URL:https://constellationschools.com
X-WR-CALDESC:Events for Constellation Schools
BEGIN:VEVENT
DTSTART;TZID=America/New_York:20230630T160000
DTEND;TZID=America/New_York:20230630T173000
DTSTAMP:20260425T023110
CREATED:20230621T163933Z
LAST-MODIFIED:20230621T163933Z
UID:32830-1688140800-1688146200@constellationschools.com
SUMMARY:Stockyard Community - Splash Into Summer
DESCRIPTION:Cool off with water play & learn about our academic and extracurricular programs! Enjoy free water play & activities. Meet our staff\, tour our campus & receive registration support.  \nRSVP Today! constellationschools.com/stockyard-events  \n
URL:https://constellationschools.com/event/stockyard-community-splash-into-summer/
LOCATION:3200 W 65th Street\, Cleveland\, OH\, 44102\, United States
CATEGORIES:Calendar Only,Prospective Families, Events, Home
END:VEVENT
END:VCALENDAR