BEGIN:VCALENDAR
VERSION:2.0
PRODID:-//Constellation Schools - ECPv4.6.16//NONSGML v1.0//EN
CALSCALE:GREGORIAN
METHOD:PUBLISH
X-WR-CALNAME:Constellation Schools
X-ORIGINAL-URL:https://constellationschools.com
X-WR-CALDESC:Events for Constellation Schools
BEGIN:VEVENT
DTSTART;TZID=America/New_York:20230712T120000
DTEND;TZID=America/New_York:20230712T140000
DTSTAMP:20260425T022851
CREATED:20230526T185836Z
LAST-MODIFIED:20230526T185836Z
UID:32233-1689163200-1689170400@constellationschools.com
SUMMARY:Madison Community - Northwest Cleveland Kids Fest
DESCRIPTION:Don’t miss the Northwest Cleveland Kids Fest hosted by Constellation Schools Madison Community! Join us for FREE family fun & the opportunity to learn about school choice in the community! Enjoy inflatable games & activities\, food & refreshments\, game truck\, music\, and more! \nRSVP today! https://constellationschools.com/madison-events/ \n
URL:https://constellationschools.com/event/madison-community-northwest-cleveland-kids-fest/
CATEGORIES:Calendar Only,Prospective Families, Events, Home
END:VEVENT
END:VCALENDAR