BEGIN:VCALENDAR
VERSION:2.0
PRODID:-//Constellation Schools - ECPv4.6.16//NONSGML v1.0//EN
CALSCALE:GREGORIAN
METHOD:PUBLISH
X-WR-CALNAME:Constellation Schools
X-ORIGINAL-URL:https://constellationschools.com
X-WR-CALDESC:Events for Constellation Schools
BEGIN:VEVENT
DTSTART;TZID=America/New_York:20230723T140000
DTEND;TZID=America/New_York:20230723T170000
DTSTAMP:20260425T022753
CREATED:20230621T144048Z
LAST-MODIFIED:20230621T144048Z
UID:32815-1690120800-1690131600@constellationschools.com
SUMMARY:Elyria Kids Fest
DESCRIPTION:Don’t miss the Elyria Kids Fest hosted by Constellation Schools! Join us for FREE family fun & the opportunity to learn about school choice in the community! Enjoy inflatable games & activities and face painting.  \nRSVP today! constellationschools.com/elyria-events  \n
URL:https://constellationschools.com/event/elyria-kids-fest/
LOCATION:300 N Abbe Rd\, Elyria\, OH\, 44035
CATEGORIES:Calendar Only,Prospective Families, Events, Home
END:VEVENT
END:VCALENDAR