BEGIN:VCALENDAR
VERSION:2.0
PRODID:-//Constellation Schools - ECPv4.6.16//NONSGML v1.0//EN
CALSCALE:GREGORIAN
METHOD:PUBLISH
X-WR-CALNAME:Constellation Schools
X-ORIGINAL-URL:https://constellationschools.com
X-WR-CALDESC:Events for Constellation Schools
BEGIN:VEVENT
DTSTART;TZID=America/New_York:20230816T160000
DTEND;TZID=America/New_York:20230816T180000
DTSTAMP:20260425T005957
CREATED:20230809T173123Z
LAST-MODIFIED:20230809T173441Z
UID:34384-1692201600-1692208800@constellationschools.com
SUMMARY:Parma Middle and HS - Kool Down with Kona Ice!
DESCRIPTION:Join us for a tropical escape\, FREE Kona Ice & and an opportunity to learn about our school! Meet our staff\, tour our campus & receive registration support.  \nRSVP Today! https://constellationschools.com/parma-middle-high-events/  \n
URL:https://constellationschools.com/event/kool-down-with-kona-ice-2/
LOCATION:5983 W. 54th Street\, Parma\, OH\, 44129\, United States
CATEGORIES:Calendar Only,Prospective Families, Events, Home
END:VEVENT
END:VCALENDAR