BEGIN:VCALENDAR
VERSION:2.0
PRODID:-//Constellation Schools - ECPv4.6.16//NONSGML v1.0//EN
CALSCALE:GREGORIAN
METHOD:PUBLISH
X-WR-CALNAME:Constellation Schools
X-ORIGINAL-URL:https://constellationschools.com
X-WR-CALDESC:Events for Constellation Schools
BEGIN:VEVENT
DTSTART;TZID=America/New_York:20240313T170000
DTEND;TZID=America/New_York:20240313T183000
DTSTAMP:20260424T142714
CREATED:20240209T201307Z
LAST-MODIFIED:20240209T201307Z
UID:38779-1710349200-1710354600@constellationschools.com
SUMMARY:Old Brooklyn Community - Kindergarten Registration Day
DESCRIPTION:It’s time to register for Kindergarten! Join us to learn more about our school culture\, academics\, extracurricular programs\, and school services. Tour our campus\, meet our staff\, and preview our easy registration process! \nRSVP Today: constellationschools.com/old-brooklyn-events \n
URL:https://constellationschools.com/event/old-brooklyn-community-kindergarten-registration-day/
LOCATION:4430 State Rd\, Cleveland\, OH\, 44109
CATEGORIES:Calendar Only,Prospective Families, Events, Home
END:VEVENT
END:VCALENDAR