BEGIN:VCALENDAR
VERSION:2.0
PRODID:-//Constellation Schools - ECPv4.6.16//NONSGML v1.0//EN
CALSCALE:GREGORIAN
METHOD:PUBLISH
X-WR-CALNAME:Constellation Schools
X-ORIGINAL-URL:https://constellationschools.com
X-WR-CALDESC:Events for Constellation Schools
BEGIN:VEVENT
DTSTART;TZID=America/New_York:20240319T093000
DTEND;TZID=America/New_York:20240319T103000
DTSTAMP:20260424T142659
CREATED:20240206T175503Z
LAST-MODIFIED:20240206T175503Z
UID:38695-1710840600-1710844200@constellationschools.com
SUMMARY:Westpark Community - Kindergarten Tour Time
DESCRIPTION:Join our group tour to get acquainted with our Early K and Kindergarten programs. Tour the campus\, meet our staff\, preview our easy registration process\, or register same day. \nRSVP Today: constellationschools.com/westpark-events  \n
URL:https://constellationschools.com/event/westpark-community-kindergarten-tour-time/
LOCATION:16210 Lorain Ave\, Cleveland\, OH\, 44111
CATEGORIES:Calendar Only,Prospective Families, Events, Home
END:VEVENT
BEGIN:VEVENT
DTSTART;TZID=America/New_York:20240319T160000
DTEND;TZID=America/New_York:20240319T180000
DTSTAMP:20260424T142659
CREATED:20240209T202951Z
LAST-MODIFIED:20240209T202951Z
UID:38812-1710864000-1710871200@constellationschools.com
SUMMARY:Parma Community Pearl Road - Kindergarten Registration Night
DESCRIPTION:It’s time to register for Kindergarten! Join us to learn more about our school culture\, academics\, extracurricular programs\, and school services. Tour our campus\, meet our staff\, and preview our easy registration process! \nRSVP Today: constellationschools.com/parma-events \n
URL:https://constellationschools.com/event/parma-community-pearl-road-kindergarten-registration-night/
LOCATION:6125 Pearl Rd\, Parma Heights\, OH\, 44130
CATEGORIES:Calendar Only,Prospective Families, Events, Home
END:VEVENT
END:VCALENDAR