BEGIN:VCALENDAR
VERSION:2.0
PRODID:-//Constellation Schools - ECPv4.6.16//NONSGML v1.0//EN
CALSCALE:GREGORIAN
METHOD:PUBLISH
X-WR-CALNAME:Constellation Schools
X-ORIGINAL-URL:https://constellationschools.com
X-WR-CALDESC:Events for Constellation Schools
BEGIN:VEVENT
DTSTART;TZID=America/New_York:20240320T093000
DTEND;TZID=America/New_York:20240320T160000
DTSTAMP:20260424T142613
CREATED:20240206T181036Z
LAST-MODIFIED:20240206T181108Z
UID:38701-1710927000-1710950400@constellationschools.com
SUMMARY:Westpark Community - Kindergarten Registration Day
DESCRIPTION:Join our group tour to get acquainted with our Early K and Kindergarten programs. Tour the campus\, meet our staff\, preview our easy registration process\, or register same day. \nRSVP Today: constellationschools.com/westpark-events \n
URL:https://constellationschools.com/event/westpark-community-kindergarten-tour-time-2/
LOCATION:16210 Lorain Ave\, Cleveland\, OH\, 44111
CATEGORIES:Calendar Only,Prospective Families, Events, Home
END:VEVENT
BEGIN:VEVENT
DTSTART;TZID=America/New_York:20240320T170000
DTEND;TZID=America/New_York:20240320T190000
DTSTAMP:20260424T142613
CREATED:20240206T173952Z
LAST-MODIFIED:20240206T173952Z
UID:38671-1710954000-1710961200@constellationschools.com
SUMMARY:Elyria Community - Kindergarten Registration Night
DESCRIPTION:It’s time to register for Kindergarten! Join us to learn more about our school culture\, academics\, extracurricular programs\, and school services. Tour our campus\, meet our staff\, and preview our easy registration process! \nRSVP Today: constellationschools.com/elyria-events\n \n
URL:https://constellationschools.com/event/elyria-community-kindergarten-registration-night/
LOCATION:300 N Abbe Rd\, Elyria\, OH\, 44035
CATEGORIES:Calendar Only,Prospective Families, Events, Home
END:VEVENT
END:VCALENDAR