BEGIN:VCALENDAR
VERSION:2.0
PRODID:-//Constellation Schools - ECPv4.6.16//NONSGML v1.0//EN
CALSCALE:GREGORIAN
METHOD:PUBLISH
X-WR-CALNAME:Constellation Schools
X-ORIGINAL-URL:https://constellationschools.com
X-WR-CALDESC:Events for Constellation Schools
BEGIN:VEVENT
DTSTART;TZID=America/New_York:20240417T100000
DTEND;TZID=America/New_York:20240417T113000
DTSTAMP:20260424T124235
CREATED:20240206T181857Z
LAST-MODIFIED:20240206T181857Z
UID:38716-1713348000-1713353400@constellationschools.com
SUMMARY:Westside Community - Kindergarten Registration Day
DESCRIPTION:It’s time to register for Kindergarten! Join us to learn more about our school culture\, academics\, extracurricular programs\, and school services. Tour our campus\, meet our staff\, and preview our easy registration process!  \nRSVP Today: constellationschools.com/westside-events  \n
URL:https://constellationschools.com/event/westside-community-kindergarten-registration-day/
LOCATION:3727 Bosworth Rd\, Cleveland\, OH\, 44111
CATEGORIES:Calendar Only,Prospective Families, Events, Home
END:VEVENT
END:VCALENDAR