BEGIN:VCALENDAR
VERSION:2.0
PRODID:-//Constellation Schools - ECPv4.6.16//NONSGML v1.0//EN
CALSCALE:GREGORIAN
METHOD:PUBLISH
X-WR-CALNAME:Constellation Schools
X-ORIGINAL-URL:https://constellationschools.com
X-WR-CALDESC:Events for Constellation Schools
BEGIN:VEVENT
DTSTART;TZID=America/New_York:20240423T160000
DTEND;TZID=America/New_York:20240423T180000
DTSTAMP:20260424T124305
CREATED:20240209T204024Z
LAST-MODIFIED:20240209T204024Z
UID:38845-1713888000-1713895200@constellationschools.com
SUMMARY:Stockyard Community - Kindergarten Registration Night
DESCRIPTION:It’s time to register for Kindergarten! Join us to learn more about our school culture\, academics\, extracurricular programs\, and school services. Tour our campus\, meet our staff\, and preview our easy registration process! \nRSVP Today: constellationschools.com/stockyard-events \n
URL:https://constellationschools.com/event/stockyard-community-kindergarten-registration-night/
LOCATION:3200 W 65th Street\, Cleveland\, OH\, 44102\, United States
CATEGORIES:Calendar Only,Prospective Families, Events, Home
END:VEVENT
END:VCALENDAR