BEGIN:VCALENDAR
VERSION:2.0
PRODID:-//Constellation Schools - ECPv4.6.16//NONSGML v1.0//EN
CALSCALE:GREGORIAN
METHOD:PUBLISH
X-WR-CALNAME:Constellation Schools
X-ORIGINAL-URL:https://constellationschools.com
X-WR-CALDESC:Events for Constellation Schools
BEGIN:VEVENT
DTSTART;TZID=America/New_York:20250508T160000
DTEND;TZID=America/New_York:20250508T170000
DTSTAMP:20260423T171847
CREATED:20250403T163733Z
LAST-MODIFIED:20250403T163733Z
UID:44536-1746720000-1746723600@constellationschools.com
SUMMARY:Parma Day Drive - Kindergarten Signing Day ( ДЕНЬ ПІДПИСАННЯ ДИТЯЧИЙ САДОК )
DESCRIPTION:Celebrate our newest class of students at Kindergarten Signing Day! This special event is modeled after the signing day for student athletes & celebrates the students who officially commit to joining Constellation Schools: Parma Community Elementary- Day Drive for the upcoming school year. \nIt’s a special day! Join us for fun activities\, school swag & the opportunity to tour the school and meet staff. RSVP constellationschools.com/parma-day-drive-elementary-events \nЗапрошуємо вас відсвяткувати вступ нашого нового класу учнів на День підписання для дитячого садка! Ця особлива подія натхненна днем підписання для студентів-спортсменів і відзначає дітей\, які офіційно зобов’язуються приєднатися до Constellation Schools: Parma Community Elementary – Day Drive у наступному навчальному році. \nЦе особливий день! Приходьте та насолоджуйтеся: Веселими активностями\, Сувенірами від школи\, Екскурсією школою\, Знайомством із персоналом\nЗареєструйтеся вже сьогодні! constellationschools.com/parma-day-drive-elementary-events \n
URL:https://constellationschools.com/event/parma-day-drive-kindergarten-signing-day-%d0%b4%d0%b5%d0%bd%d1%8c-%d0%bf%d1%96%d0%b4%d0%bf%d0%b8%d1%81%d0%b0%d0%bd%d0%bd%d1%8f-%d0%b4%d0%b8%d1%82%d1%8f%d1%87%d0%b8%d0%b9-%d1%81%d0%b0%d0%b4%d0%be/
LOCATION:7667 Day Dr\, Parma\, OH\, 44129
CATEGORIES:Calendar Only,Prospective Families, Events, Home
END:VEVENT
END:VCALENDAR