BEGIN:VCALENDAR
VERSION:2.0
PRODID:-//Constellation Schools - ECPv4.6.16//NONSGML v1.0//EN
CALSCALE:GREGORIAN
METHOD:PUBLISH
X-WR-CALNAME:Constellation Schools
X-ORIGINAL-URL:https://constellationschools.com
X-WR-CALDESC:Events for Constellation Schools
BEGIN:VEVENT
DTSTART;TZID=America/New_York:20250513T160000
DTEND;TZID=America/New_York:20250513T170000
DTSTAMP:20260423T173303
CREATED:20250408T140956Z
LAST-MODIFIED:20250408T140956Z
UID:44557-1747152000-1747155600@constellationschools.com
SUMMARY:Madison - Kindergarten Signing Day  ( Día de Firma para )  ( د ماشومانو د  شاملېدو ځانګړې ورځ )
DESCRIPTION:Celebrate our newest class of students at Kindergarten Signing Day! This special event is modeled after the signing day for student athletes & celebrates the students who officially commit to joining Constellation Schools: Madison Community for the upcoming school year.\nIt’s a special day! Join us for fun activities\, school swag & the opportunity to tour the school and meet staff. RSVP Today!  \n\n¡Acompáñanos para dar la bienvenida y celebrar a nuestra nueva clase de estudiantes! Este evento especial\, inspirado en los días de firma de atletas\, honra a los estudiantes que oficialmente se comprometen a formar parte de la familia de Constellation Schools: Madison Community para el próximo año escolar.\n¿Qué habrá?: Actividades divertidas para niños y familias\, ceremonia oficial de firma\, regalos y artículos con el logo de la escuela\, conoce a nuestros maestros y personal\, recorridos guiados por la escuela. ¡Confirma tu asistencia hoy!  \n\nراشئ او زموږ د نویو زده کوونکو د راتلو جشن ونیسئ! دا ځانګړې مراسم د هغو مراسمو په څېر دي چې ورزشي لوبغاړي پکې رسمي ژمنه کوي. اوس به زموږ نوي زده کوونکي رسمي ژمنه وکړي چې د راتلونکي ښوونیز کال لپاره د Constellation Schools: Madison Community غړي شي.\nپه دې ورځ کې به وي: د ماشومانو او کورنیو لپاره ساتیرۍ او فعالیتونه\, رسمي د شاملېدو مراسم\, د ښوونځي تحفې او نور توکي. د ښوونځي ښوونکي او کارکوونکي سره ملاقات\, د ښوونځي سیر او لیدنه\nنن ورځ نوم لیکنه وکړئ!  \nconstellationschools.com/madison-events \n
URL:https://constellationschools.com/event/madison-kindergarten-signing-day-dia-de-firma-para-%d8%af-%d9%85%d8%a7%d8%b4%d9%88%d9%85%d8%a7%d9%86%d9%88-%d8%af-%d8%b4%d8%a7%d9%85%d9%84%db%90%d8%af%d9%88-%da%81%d8%a7%d9%86%da%ab%da%93/
LOCATION:2015 West 95th St\, Cleveland\, OH\, 44102
CATEGORIES:Calendar Only,Prospective Families, Events, Home
END:VEVENT
END:VCALENDAR