BEGIN:VCALENDAR
VERSION:2.0
PRODID:-//Constellation Schools - ECPv4.6.16//NONSGML v1.0//EN
CALSCALE:GREGORIAN
METHOD:PUBLISH
X-WR-CALNAME:Constellation Schools
X-ORIGINAL-URL:https://constellationschools.com
X-WR-CALDESC:Events for Constellation Schools
BEGIN:VEVENT
DTSTART;TZID=America/New_York:20250514T160000
DTEND;TZID=America/New_York:20250514T170000
DTSTAMP:20260423T172322
CREATED:20250409T175424Z
LAST-MODIFIED:20250409T175424Z
UID:44564-1747238400-1747242000@constellationschools.com
SUMMARY:Parma Pearl - Kindergarten Signing Day
DESCRIPTION:Celebrate our newest class of students at Kindergarten Signing Day! This special event is modeled after the signing day for student athletes & celebrates the students who officially commit to joining Constellation Schools: Parma Community Pearl Road Elementary for the upcoming school year. \nIt’s a special day! Join us for fun activities\, school swag & the opportunity to tour the school and meet staff. RSVP Today! \nconstellationschools.com/parma-pearl-rd-elementary-events \n
URL:https://constellationschools.com/event/parma-pearl-kindergarten-signing-day/
LOCATION:6125 Pearl Rd\, Parma Heights\, OH\, 44130
CATEGORIES:Calendar Only,Prospective Families, Events, Home
END:VEVENT
END:VCALENDAR