BEGIN:VCALENDAR
VERSION:2.0
PRODID:-//Constellation Schools - ECPv4.6.16//NONSGML v1.0//EN
CALSCALE:GREGORIAN
METHOD:PUBLISH
X-WR-CALNAME:Constellation Schools
X-ORIGINAL-URL:https://constellationschools.com
X-WR-CALDESC:Events for Constellation Schools
BEGIN:VEVENT
DTSTART;TZID=America/New_York:20250724T170000
DTEND;TZID=America/New_York:20250724T190000
DTSTAMP:20260423T102604
CREATED:20250717T192422Z
LAST-MODIFIED:20250717T192422Z
UID:45118-1753376400-1753383600@constellationschools.com
SUMMARY:Parma Pearl Rd - Parma Heights Kids Fest
DESCRIPTION:Don’t miss the Parma Heights Kids Fest hosted at Constellation Schools: Parma Community! Join us for FREE family fun & the opportunity to learn about school choice in the community! Enjoy face painting\, inflatable activities\, police & fire depart demos\, free Kona Ice\, and refreshments.  \nRSVP today! constellationschools.com/parma-events \n
URL:https://constellationschools.com/event/parma-pearl-rd-parma-heights-kids-fest/
LOCATION:6125 Pearl Rd\, Parma Heights\, OH\, 44130
CATEGORIES:Calendar Only,Prospective Families, Events, Home
END:VEVENT
END:VCALENDAR