BEGIN:VCALENDAR
VERSION:2.0
PRODID:-//Constellation Schools - ECPv4.6.16//NONSGML v1.0//EN
CALSCALE:GREGORIAN
METHOD:PUBLISH
X-WR-CALNAME:Constellation Schools
X-ORIGINAL-URL:https://constellationschools.com
X-WR-CALDESC:Events for Constellation Schools
BEGIN:VEVENT
DTSTART;TZID=America/New_York:20250927T140000
DTEND;TZID=America/New_York:20250927T150000
DTSTAMP:20260423T071304
CREATED:20250918T194056Z
LAST-MODIFIED:20250918T195626Z
UID:45863-1758981600-1758985200@constellationschools.com
SUMMARY:Girls Volleyball Game
DESCRIPTION:Parma High School vs Our Lady of the Elms Akron \n  \n  \n  \n  \nSee Full Schedule » \n
URL:https://constellationschools.com/event/girls-volleyball-game-7/
LOCATION:1375 West Exchange Street\, Akron\, OH\, 44313\, United States
CATEGORIES:Calendar Only,Prospective Families, Events, Home
END:VEVENT
END:VCALENDAR