BEGIN:VCALENDAR
VERSION:2.0
PRODID:-//Constellation Schools - ECPv4.6.16//NONSGML v1.0//EN
CALSCALE:GREGORIAN
METHOD:PUBLISH
X-WR-CALNAME:Constellation Schools
X-ORIGINAL-URL:https://constellationschools.com
X-WR-CALDESC:Events for Constellation Schools
BEGIN:VEVENT
DTSTART;TZID=America/New_York:20251030T190000
DTEND;TZID=America/New_York:20251030T190000
DTSTAMP:20260423T041310
CREATED:20250918T200519Z
LAST-MODIFIED:20250918T200519Z
UID:45871-1761850800-1761850800@constellationschools.com
SUMMARY:Girls Volleyball Game
DESCRIPTION:Parma High School vs Brook Park Recreation (Dave) 1 Team \n  \n  \n  \n  \n  \nSee Full Schedule » \n
URL:https://constellationschools.com/event/girls-volleyball-game-10/
LOCATION:17400 Holland Rd\, Brook Park\, OH\, 44142\, United States
CATEGORIES:Calendar Only,Prospective Families, Events, Home
END:VEVENT
END:VCALENDAR