BEGIN:VCALENDAR
VERSION:2.0
PRODID:-//Constellation Schools - ECPv4.6.16//NONSGML v1.0//EN
CALSCALE:GREGORIAN
METHOD:PUBLISH
X-WR-CALNAME:Constellation Schools
X-ORIGINAL-URL:https://constellationschools.com
X-WR-CALDESC:Events for Constellation Schools
BEGIN:VEVENT
DTSTART;TZID=America/New_York:20260304T170000
DTEND;TZID=America/New_York:20260304T193000
DTSTAMP:20260422T221119
CREATED:20260227T193227Z
LAST-MODIFIED:20260227T193313Z
UID:47087-1772643600-1772652600@constellationschools.com
SUMMARY:Parma Middle & High - Re-enrollment Night
DESCRIPTION:\nParma Community Middle & High Parents!\n\n\n\n\n\nNeed help with re-enrollment or setting up your Parent Portal?\n\n\n\n\n\nWe are here to help! Join us on Wednesday\, March 4th  5:00 PM–7:30 PM in the Cafeteria\n\n\n\n\n\nBring your NEW Proof of Residency — we’ll handle the rest! 💙\n\n\n\n\n\nProof of residency examples can be found here.\n\n\nhttps://accelschools.com/enrollment-resources-ohio/?_gl=1*tc4out*_gcl_au*MzA4ODUyNDMyLjE3Njg5NDM2MTQ.\n\n\n \n
URL:https://constellationschools.com/event/parma-community-middle-high-re-enrollment-night/
CATEGORIES:Calendar Only,Prospective Families, Events, Home
END:VEVENT
END:VCALENDAR