BEGIN:VCALENDAR
VERSION:2.0
PRODID:-//Constellation Schools - ECPv4.6.16//NONSGML v1.0//EN
CALSCALE:GREGORIAN
METHOD:PUBLISH
X-WR-CALNAME:Constellation Schools
X-ORIGINAL-URL:https://constellationschools.com
X-WR-CALDESC:Events for Constellation Schools
BEGIN:VEVENT
DTSTART;TZID=America/New_York:20260326T160000
DTEND;TZID=America/New_York:20260326T170000
DTSTAMP:20260422T221019
CREATED:20260312T131328Z
LAST-MODIFIED:20260312T133559Z
UID:47131-1774540800-1774544400@constellationschools.com
SUMMARY:Westpark - Kindergarten Signing Day
DESCRIPTION:Your child is the star player. Before Kindergarten starts\, let’s make it social! Join us for a high-energy celebration modeled after elite athletes. Watch your child sign the “Westpark Bee” Commitment. It’s the perfect first photo for their graduation scrapbook! Pick up exclusive Bee swag—only for our newest students. Meet the teachers and Principal to see where the magic happens. Start their journey with a win. We can’t wait to welcome our newest Westpark Bee to the hive! \nRSVP Today https://constellationschools.com/westpark-events/ \n
URL:https://constellationschools.com/event/cs-westpark-kindergarten-signing-day/
LOCATION:16210 Lorain Ave\, Cleveland\, OH\, 44111
CATEGORIES:Calendar Only,Prospective Families, Events, Home
END:VEVENT
BEGIN:VEVENT
DTSTART;TZID=America/New_York:20260326T170000
DTEND;TZID=America/New_York:20260326T180000
DTSTAMP:20260422T221019
CREATED:20260311T142922Z
LAST-MODIFIED:20260311T142922Z
UID:47128-1774544400-1774548000@constellationschools.com
SUMMARY:Westside Community - Kindergarten Signing Day
DESCRIPTION:Don’t Miss Our “Signing Day!” Your child is the star of the pack. Before Kindergarten starts\, let’s make it official! Join us for a high-energy celebration modeled after elite athletes signing with their new team. Watch your child sign the “Westside Wolverine” Commitment. It’s the perfect first photo for their graduation scrapbook!\nPick up exclusive Wolverine swag—available only for our newest students. Meet the Teachers and Principal to see where the artistic and academic magic happens. Start their journey with a win. We can’t wait to welcome our newest Wolverine to the Westside family! \nRSVP Today https://constellationschools.com/westside-events/ \n
URL:https://constellationschools.com/event/westside-community-kindergarten-signing-day-3/
LOCATION:3727 Bosworth Rd\, Cleveland\, OH\, 44111
CATEGORIES:Calendar Only,Prospective Families, Events, Home
END:VEVENT
END:VCALENDAR